BEGIN:VCALENDAR
VERSION:2.0
PRODID:-//Octubre Centre de Cultura Contemporània - ECPv5.1.6//NONSGML v1.0//EN
CALSCALE:GREGORIAN
METHOD:PUBLISH
X-WR-CALNAME:Octubre Centre de Cultura Contemporània
X-ORIGINAL-URL:https://octubre.cat
X-WR-CALDESC:Events for Octubre Centre de Cultura Contemporània
BEGIN:VTIMEZONE
TZID:Europe/Andorra
BEGIN:DAYLIGHT
TZOFFSETFROM:+0100
TZOFFSETTO:+0200
TZNAME:CEST
DTSTART:20150329T010000
END:DAYLIGHT
BEGIN:STANDARD
TZOFFSETFROM:+0200
TZOFFSETTO:+0100
TZNAME:CET
DTSTART:20151025T010000
END:STANDARD
END:VTIMEZONE
BEGIN:VEVENT
DTSTART;TZID=Europe/Andorra:20151105T190000
DTEND;TZID=Europe/Andorra:20151105T190000
DTSTAMP:20260422T110416
CREATED:20200729T171349Z
LAST-MODIFIED:20200730T041552Z
UID:10356-1446750000-1446750000@octubre.cat
SUMMARY:“El model d'Estat pensat des de València'
DESCRIPTION:Dijous 5 de novembre a les 19.00h. Amb Josep Vicent Boira\, Rafael Beneyto i Oto Luque.  \n  \n  \n\n 19:00 hores “El model valencià de territori i infraestructures” Josep Vicent Boira Secretari Autonòmic de la Conselleria d’Habitatge\, Obres Públiques i Vertebració del Territori de la Generalitat Valenciana.  19:30 hores “El model valencià de finançament”. Rafael Beneyto Analista financer\, membre de la comissió d’experts sobre finançament autonòmic i membre de la junta directiva de l’Institut Ignasi Villalonga.  20:00 hores Oto Luque Catedràtic de Psicologia  Social i Treball\, professor a la Universitat de València i membre de la Sectorial d’Ocupació.  20:30 hores Roda de premsa amb pica-pica.  21:00 hores Finalització.  Organitza: Sectorial d’Economia i Ocupació de Compromís per València Amb la col·laboració de l’Institut Ignasi Villalonga d’Economia i Empresa. L’acte es fa en memòria de l’insigne Francesc de Paula i Burguera\, traspassat el darrer 16 d’octubre de 2015
URL:https://octubre.cat/activitat/el-model-destat-pensat-des-de-valencia/
CATEGORIES:Conferències i congressos
ATTACH;FMTTYPE=image/jpeg:https://octubre.cat/www/wp-content/uploads/2020/07/activitat2425.jpg
END:VEVENT
END:VCALENDAR