BEGIN:VCALENDAR
VERSION:2.0
PRODID:-//Octubre Centre de Cultura Contemporània - ECPv5.1.6//NONSGML v1.0//EN
CALSCALE:GREGORIAN
METHOD:PUBLISH
X-WR-CALNAME:Octubre Centre de Cultura Contemporània
X-ORIGINAL-URL:https://octubre.cat
X-WR-CALDESC:Events for Octubre Centre de Cultura Contemporània
BEGIN:VTIMEZONE
TZID:Europe/Andorra
BEGIN:DAYLIGHT
TZOFFSETFROM:+0100
TZOFFSETTO:+0200
TZNAME:CEST
DTSTART:20090329T010000
END:DAYLIGHT
BEGIN:STANDARD
TZOFFSETFROM:+0200
TZOFFSETTO:+0100
TZNAME:CET
DTSTART:20091025T010000
END:STANDARD
END:VTIMEZONE
BEGIN:VEVENT
DTSTART;TZID=Europe/Andorra:20090623T000000
DTEND;TZID=Europe/Andorra:20090831T000000
DTSTAMP:20260420T192116
CREATED:20200729T182519Z
LAST-MODIFIED:20200829T110615Z
UID:12871-1245715200-1251676800@octubre.cat
SUMMARY:El Llibre i el Maó
DESCRIPTION:LA CULTURA DEL LLIBRE A LA XINA CONTEMPORÀNIA \nPer primera vegada a Europa\, una visió completa de la revolució gràfica i estètica que s’està vivint a la Xina d’avui mateix. L’avantguarda artística i vital que està capgirant tots els conceptes del disseny i de la comunicació en una cultura que sap conjugar la tradició de mil·lennis amb les tècniques i les idees més novedoses i\, a més\, que sap absorbir el bo i millor de la cultura d’Occident per a expressar-se amb un llenguatge ultramodern\, universal i més revolucionari que totes les Revolucions Culturals. \nDISSENY I EDICIÓ A LA XINA CONTEMPORÀNIA \nEl llibre és el moll de l’os de la cultura xinesa des d’abans de la invenció del paper\, la tinta\, el pinzell\, els tipus mòbils\, els segells… des que tot suport per l’escriptura esdevé escriptura per si mateix. \nRastrejant al llarg de la història xinesa el llibre s’estén de la closca de la tortuga al missatge de mòbil passant per les esteles\, el bambú o la pintura. En cap altra cultura podem afirmar amb tanta claredat que un llibre no és només un format per fer portàtil el pensament i que de sempre un llibre no és un llibre. \nLa Xina contemporània està marcada per l’eslògan de Deng Xiaoping “fer-se ric és honorable” 致富光荣 en plantar la primera pedra de Shenzhen. L’obertura que viu la Xina des de l’any 78 és un viatge d’una acceleració i transformació com mai s’ha viscut en aquest planeta. ¿Això es reflecteix en els formats\, distribució\, impressió\, i edició dels llibres? ¿I quines són les escriptures i quins els agents culturals que hi ha actualment? \nAquesta exposició de llibres xinesos és una mostra també de la cultura urbana de Beijing. \nEls llibres estan agrupats pels trets que els donen una aparença particular i pels hàbits lectors a què s’adrecen. L’exposició està dividida en diversos blocs de lectura\, que estudien els diferents suports de l’escriptura a través de llibres amb els quals s’estén i s’ensenya actualment; també els llibres dedicats als estrangers i traduccions de llibres d’altres llengües; catàlegs impresos amb motiu d’exposicions a galeries i museus; llibres de disseny; còpies il·legals; llibres referents intel·lectuals\, etc. \nUna producció de l’Octubre CCC\nComissariada per Gerard Altaió i Lupe Frígols.\nCol·laboren: Institut Confuci de la Universitat de València i Hanban.
URL:https://octubre.cat/activitat/el-llibre-i-el-mao/
LOCATION:Sala d’exposicions
CATEGORIES:Exposicions
ATTACH;FMTTYPE=image/jpeg:https://octubre.cat/www/wp-content/uploads/2020/07/activitat901.jpg
END:VEVENT
END:VCALENDAR