BEGIN:VCALENDAR
VERSION:2.0
PRODID:-//Octubre Centre de Cultura Contemporània - ECPv5.1.6//NONSGML v1.0//EN
CALSCALE:GREGORIAN
METHOD:PUBLISH
X-WR-CALNAME:Octubre Centre de Cultura Contemporània
X-ORIGINAL-URL:https://octubre.cat
X-WR-CALDESC:Events for Octubre Centre de Cultura Contemporània
BEGIN:VTIMEZONE
TZID:Europe/Andorra
BEGIN:DAYLIGHT
TZOFFSETFROM:+0100
TZOFFSETTO:+0200
TZNAME:CEST
DTSTART:20160327T010000
END:DAYLIGHT
BEGIN:STANDARD
TZOFFSETFROM:+0200
TZOFFSETTO:+0100
TZNAME:CET
DTSTART:20161030T010000
END:STANDARD
END:VTIMEZONE
BEGIN:VEVENT
DTSTART;TZID=Europe/Andorra:20161214T190000
DTEND;TZID=Europe/Andorra:20161214T190000
DTSTAMP:20260421T001512
CREATED:20200729T172248Z
LAST-MODIFIED:20200729T185703Z
UID:10930-1481742000-1481742000@octubre.cat
SUMMARY:'El gran Gato'\, de Ventura Pons
DESCRIPTION:Dimecres 14 de desembre a les 19.00h. Projecció inclosa en el cicle de cinema Barcelona Escenari 2016. Entrada lliure.  \n  \n  \n\n Documental que rendeix homenatge a l’extraordinari compositor Javier Patricio “Gato Pérez”. Memòria i llegat expliquen un personatge i una època: immigració\, mestissatge cultural i idiomàtic\, rumba catalana\, esforç i desgast de l’artista anònim. Un testimoni sobre la lluita i les ganes de viure de tota una generació. Inclou el concert en què diversos cantants interpreten catorze de les seues cançons.   Direcció i guió: Ventura Pons (2002) Música: Gato Pérez Repartiment: Gato Pérez\, Luis Eduardo Aute\, Rosario\, Ketama\, Lolita\, Martirio\, Jaume Sisa\, María Jiménez\, Los Chichos\, Tonino Carotone\, María del Mar Bonet\, Kiko Veneno\, Benjamín Escoriza. Productora: Els Films de la Rambla SA Durada: 105’  — Cicle organitzat per l’Octubre Centre de Cultura Contemporània amb el patrocini de l’Institut de Cultura de Barcelona Direcció del cicle: Antonio Lloréns Entrada lliure
URL:https://octubre.cat/activitat/el-gran-gato-de-ventura-pons/
LOCATION:Sala d’actes
CATEGORIES:Barcelona Escenari 2016 (cinema)
ATTACH;FMTTYPE=image/jpeg:https://octubre.cat/www/wp-content/uploads/2020/07/activitat2726.jpg
END:VEVENT
END:VCALENDAR