BEGIN:VCALENDAR
VERSION:2.0
PRODID:-//Octubre Centre de Cultura Contemporània - ECPv5.1.6//NONSGML v1.0//EN
CALSCALE:GREGORIAN
METHOD:PUBLISH
X-WR-CALNAME:Octubre Centre de Cultura Contemporània
X-ORIGINAL-URL:https://octubre.cat
X-WR-CALDESC:Events for Octubre Centre de Cultura Contemporània
BEGIN:VTIMEZONE
TZID:Europe/Andorra
BEGIN:DAYLIGHT
TZOFFSETFROM:+0100
TZOFFSETTO:+0200
TZNAME:CEST
DTSTART:20110327T010000
END:DAYLIGHT
BEGIN:STANDARD
TZOFFSETFROM:+0200
TZOFFSETTO:+0100
TZNAME:CET
DTSTART:20111030T010000
END:STANDARD
END:VTIMEZONE
BEGIN:VEVENT
DTSTART;TZID=Europe/Andorra:20110602T193000
DTEND;TZID=Europe/Andorra:20110602T193000
DTSTAMP:20260422T185500
CREATED:20200729T165545Z
LAST-MODIFIED:20200730T042834Z
UID:9248-1307043000-1307043000@octubre.cat
SUMMARY:El futur del territori valencià
DESCRIPTION:Dijous 2 de juny\, a les 19.30h: taula rodona “El futur del territori valencià”\, amb José Miguel Iribas\, Antonio Montiel\, Alberto Peñín i José Vicente Sanchis. Amb la col·laboració del Col·legi de Geògrafs de la CV.  \n  \n  \n\nTaula rodona “El futur del territori valencià. L’Estratègia Territorial de la Comunitat Valenciana\, a debat”  Finalment\, després de set anys d’espera\, el passat mes de gener va entrar en vigor l’Estratègia Territorial de la Comunitat Valenciana\, un instrument que haurà de marcar el full de ruta dels propers vint anys en matèria d’ordenació i gestió territorials. Cal reflexionar-hi\, desvetllar el model territorial que comporta i quines són les llums i les ombres d’aquest instrument. La taula rodona “El futur del territori valencià. L’Estratègia Territorial de la Comunitat Valenciana\, a debat” pretén donar veu a experts i ciutadania per tal de posar en comú les assignatures pendents en matèria de territori.  A l’acte\, hi particparan: José Miguel Iribas\, sociòleg Antonio Montiel\, advocat i membre de l’associació Per l’Horta Alberto Peñín\, arquitecte José Vicente Sánchez\, president del Col·legi de Geògrafs  Organitzen: Col·legi de Geògrafs de la Comunitat Valenciana i Institut del Territori
URL:https://octubre.cat/activitat/el-futur-del-territori-valencia/
LOCATION:No definit
CATEGORIES:Institut del Territori
ATTACH;FMTTYPE=image/jpeg:https://octubre.cat/www/wp-content/uploads/2020/07/activitat1477.jpg
END:VEVENT
END:VCALENDAR