BEGIN:VCALENDAR
VERSION:2.0
PRODID:-//Octubre Centre de Cultura Contemporània - ECPv5.1.6//NONSGML v1.0//EN
CALSCALE:GREGORIAN
METHOD:PUBLISH
X-WR-CALNAME:Octubre Centre de Cultura Contemporània
X-ORIGINAL-URL:https://octubre.cat
X-WR-CALDESC:Events for Octubre Centre de Cultura Contemporània
BEGIN:VTIMEZONE
TZID:Europe/Andorra
BEGIN:DAYLIGHT
TZOFFSETFROM:+0100
TZOFFSETTO:+0200
TZNAME:CEST
DTSTART:20140330T010000
END:DAYLIGHT
BEGIN:STANDARD
TZOFFSETFROM:+0200
TZOFFSETTO:+0100
TZNAME:CET
DTSTART:20141026T010000
END:STANDARD
END:VTIMEZONE
BEGIN:VEVENT
DTSTART;TZID=Europe/Andorra:20141112T190000
DTEND;TZID=Europe/Andorra:20141112T190000
DTSTAMP:20260421T064315
CREATED:20200729T170723Z
LAST-MODIFIED:20200730T041243Z
UID:9944-1415818800-1415818800@octubre.cat
SUMMARY:‘El futur de l’energia’\, per Antonio Turiel
DESCRIPTION:Dimecres 12 de novembre a les 19.00h. Presentat per Vicent Cucarella (Institut Valencià d’Investigacions Econòmiques) i Pau Caparrós (Institut Ignasi Villalonga d’Economia i Empresa)  \n  \n  \n\n Per què aquesta crisi no s’acabarà mai  Energia i economia estan íntimament relacionades. El model actual es basa en el “creixement” i\, per créixer\, s’ha de consumir energia. Com es pot créixer si les fonts d’energia que coneixem s’estanquen? El “decreixement” és l’única alternativa?  Antonio Turiel és científic titular del CSIC en l’Institut de Ciències de la Mar. Es dedica a la investigació en oceanografia física i és secretari del comitè executiu del Barcelona Expert Center (que assessora l’Agència Espacial Europea). Estudia també els problemes relacionats amb els recursos naturals i la sostenibilitat i\, seguint aquest vessant\, és també l’editor i principal autor del conegut blog de divulgació The Oil Crash.  Acte organitzat per l’Institut Ignasi Villalonga d’Economia i Empresa (IIVEE) amb la col·laboració de l’Octubre CCC. La presentació anirà a càrrec de Pau Caparrós (director de l’IIVEE) i de Vicent Cucarella (investigador de l’Institut Valencià d’Investigacions Econòmiques)  (fotografia: Martí Dacosta\, emporda.info)
URL:https://octubre.cat/activitat/el-futur-de-lenergia-per-antonio-turiel/
CATEGORIES:Conferències i congressos
ATTACH;FMTTYPE=image/jpeg:https://octubre.cat/www/wp-content/uploads/2020/07/activitat2170.jpg
END:VEVENT
END:VCALENDAR