BEGIN:VCALENDAR
VERSION:2.0
PRODID:-//Octubre Centre de Cultura Contemporània - ECPv5.1.6//NONSGML v1.0//EN
CALSCALE:GREGORIAN
METHOD:PUBLISH
X-WR-CALNAME:Octubre Centre de Cultura Contemporània
X-ORIGINAL-URL:https://octubre.cat
X-WR-CALDESC:Events for Octubre Centre de Cultura Contemporània
BEGIN:VTIMEZONE
TZID:Europe/Andorra
BEGIN:DAYLIGHT
TZOFFSETFROM:+0100
TZOFFSETTO:+0200
TZNAME:CEST
DTSTART:20140330T010000
END:DAYLIGHT
BEGIN:STANDARD
TZOFFSETFROM:+0200
TZOFFSETTO:+0100
TZNAME:CET
DTSTART:20141026T010000
END:STANDARD
END:VTIMEZONE
BEGIN:VEVENT
DTSTART;TZID=Europe/Andorra:20141022T190000
DTEND;TZID=Europe/Andorra:20141022T190000
DTSTAMP:20260421T033107
CREATED:20200729T170649Z
LAST-MODIFIED:20200902T155223Z
UID:9906-1414004400-1414004400@octubre.cat
SUMMARY:'El dia que va morir Gracia Imperio'\, de Francesc Betriu
DESCRIPTION:Dimecres 22 d’octubre a les 10.00h. Projecció presentada pel director i inclosa en el cicle Barcelona Escenari 2014. Entrada lliure  \n  \n  \n\nProjecció presentada i comentada pel director  El dia 1 de novembre de 1968 van ser trobats sense vida els cossos de dues persones (un home i una dona) a l’apartament número 13 del carrer Conca\, 78\, a València. Ella era Emília Argüelles Catalina\, més coneguda com Gracia Imperio. La notícia de la seua mort va causar un gran impacte en tota la ciutat\, ja que era una artista de grans triomfs a tot Espanya. Quatre dècades després\, es realitza una investigació dels fets a través de testimonis i amics de les víctimes per intentar aclarir el misteri que va envoltar el cas de la mort de la famosa vedette i del seu jove amant\, alhora que s’analitzen les condicions socials de l’època.  Direcció i guió: Francesc Betriu (2013) Durada: 90′ Música: José Manuel Sanz García\, Miguel Asins Arbo Fotografia: Natalia Pérez Carretero  — Cicle organitzat per l’Octubre CCC amb el patrocini de l’Institut de Cultura de Barcelona (ICUB). Col·labora: Mostra Viva Director del cicle: Antonio Llorens Entrada lliure
URL:https://octubre.cat/activitat/el-dia-que-va-morir-gracia-imperio-de-francesc-betriu/
LOCATION:Sala d’actes
CATEGORIES:Barcelona Escenari 2014 (cinema),Cinema
ATTACH;FMTTYPE=image/jpeg:https://octubre.cat/www/wp-content/uploads/2020/07/activitat2152.jpg
END:VEVENT
END:VCALENDAR