BEGIN:VCALENDAR
VERSION:2.0
PRODID:-//Octubre Centre de Cultura Contemporània - ECPv5.1.6//NONSGML v1.0//EN
CALSCALE:GREGORIAN
METHOD:PUBLISH
X-WR-CALNAME:Octubre Centre de Cultura Contemporània
X-ORIGINAL-URL:https://octubre.cat
X-WR-CALDESC:Events for Octubre Centre de Cultura Contemporània
BEGIN:VTIMEZONE
TZID:Europe/Andorra
BEGIN:DAYLIGHT
TZOFFSETFROM:+0100
TZOFFSETTO:+0200
TZNAME:CEST
DTSTART:20160327T010000
END:DAYLIGHT
BEGIN:STANDARD
TZOFFSETFROM:+0200
TZOFFSETTO:+0100
TZNAME:CET
DTSTART:20161030T010000
END:STANDARD
END:VTIMEZONE
BEGIN:VEVENT
DTSTART;TZID=Europe/Andorra:20160421T190000
DTEND;TZID=Europe/Andorra:20160421T190000
DTSTAMP:20260421T165230
CREATED:20200729T171752Z
LAST-MODIFIED:20200729T185451Z
UID:10615-1461265200-1461265200@octubre.cat
SUMMARY:El debat sobre les vacunes
DESCRIPTION:Dijous 21 d’abril a les 19.00h. Amb Ferran Calvo Rigual\, Josep A. Lluch i Lluís Cerveró. Organitzat per la SCVS “Joan B. Peset”  \n  \n  \n\n Participen:  –Ferran Calvo Rigual\, Cap de Servei de Pediatria\, Hospital Lluís Alcanyís de Xàtiva.  –Josep A. Lluch\, Cap de Servei de Salut Infantil i de la Dona\, Direcció General de Salut Pública de la Conselleria de Sanitat de la Generalitat Valenciana.  –Modera: Lluís Cerveró\, membre de la Junta Directiva de la SVCS  Organitza: Societat Valenciana de Ciències de la Salut “Joan B. Peset”
URL:https://octubre.cat/activitat/el-debat-sobre-les-vacunes/
CATEGORIES:Conferències i congressos
ATTACH;FMTTYPE=image/jpeg:https://octubre.cat/www/wp-content/uploads/2020/07/activitat2557.jpg
END:VEVENT
END:VCALENDAR