BEGIN:VCALENDAR
VERSION:2.0
PRODID:-//Octubre Centre de Cultura Contemporània - ECPv5.1.6//NONSGML v1.0//EN
CALSCALE:GREGORIAN
METHOD:PUBLISH
X-WR-CALNAME:Octubre Centre de Cultura Contemporània
X-ORIGINAL-URL:https://octubre.cat
X-WR-CALDESC:Events for Octubre Centre de Cultura Contemporània
BEGIN:VTIMEZONE
TZID:Europe/Andorra
BEGIN:DAYLIGHT
TZOFFSETFROM:+0100
TZOFFSETTO:+0200
TZNAME:CEST
DTSTART:20160327T010000
END:DAYLIGHT
BEGIN:STANDARD
TZOFFSETFROM:+0200
TZOFFSETTO:+0100
TZNAME:CET
DTSTART:20161030T010000
END:STANDARD
END:VTIMEZONE
BEGIN:VEVENT
DTSTART;TZID=Europe/Andorra:20160430T193000
DTEND;TZID=Europe/Andorra:20160430T193000
DTSTAMP:20260421T151730
CREATED:20200729T171759Z
LAST-MODIFIED:20200729T185453Z
UID:10622-1462044600-1462044600@octubre.cat
SUMMARY:El Cor Escènic presenta 'La chica del ukelele'
DESCRIPTION:Dissabte 30 d’abril a les 19.30h. Amb el suport del Conservatori de Riba-roja de Túria. Entrades a 5 euros.  \n  \n  \n\n El COR ESCÈNIC arriba amb “La chica del ukelele”.  Un cor com mai no l’has vist. Un espectacle músic-teatral amb repertori modern que agrada a totes les edats.  Duració: 50 minuts Públic familiar Preu 5 €  El Cor Escènic és una proposta original\, moderna i divertida que amplia l’oferta del panorama coral i apropa aquesta modalitat al públic general. La combinació del cant coral amb una posada en escena dinàmica atreu nous públics i contribueix a canviar la percepció general de la música coral com una activitat clàssica i estàtica.  Des de la seua creació\, l’any 2009\, el Cor Escènic ha estrenat tres espectacles. Amb “Malasort” temptàrem les supersticions de l’escena cantant enfundats en granotes grogues. En “Jaula de gritos”\, reptàrem al més perseguit dels enemics del cant: el crit. Amb “Blanca Navidad” retransmitírem un documental sobre la festa més representativa de la nostra societat. El nostre objectiu sempre ha sigut donar a conéixer el repertori que actualment es composa per a cor en l’àmbit internacional. Amb “La chica del Ukelele” canviem d’estil i tirem mà de clàssics del pop.  El Cor Escènic és un projecte creat i dirigit per Cristel Pleyers\, amb el suport del Conservatori Professional Municipal de Música\, l’Auditori Municipal i la Regidoria de Cultura de l’Ajuntament de Riba-roja de Túria.  Cristel Pleyers. Direcció general i musical. Carlos Labiós. Creació i direcció escènica Núria Martín Torre. Directora d’escena convidada Víctor Alonso. Tècnica vocal David Sanz Aguirre. Pianista Álvaro Melguizo. Percussió Jimi Hernández Calero. Baix Violeta Camarasa. Comunicació Ricardo Solís Serna. Disseny gràfic  Cor: Carmina García\, Candela Fonseca\, Mar Chornet\, Nuria Quiralte\, Cristina Esteban\, Lluís Castillo\, Carlos Antonaya\, Claudia Estrada\, Nacho Ángel\, Alejandro Tardío\, Susana González\, Clara Martínez\, Yolanda Bautista\, Loli Llamas\, Elena Martínez\, Ana María Ramírez i Maria Hidalgo.
URL:https://octubre.cat/activitat/el-cor-escenic-presenta-la-chica-del-ukelele/
LOCATION:Hall
CATEGORIES:Música
ATTACH;FMTTYPE=image/jpeg:https://octubre.cat/www/wp-content/uploads/2020/07/activitat2559.jpg
END:VEVENT
END:VCALENDAR