BEGIN:VCALENDAR
VERSION:2.0
PRODID:-//Octubre Centre de Cultura Contemporània - ECPv5.1.6//NONSGML v1.0//EN
CALSCALE:GREGORIAN
METHOD:PUBLISH
X-WR-CALNAME:Octubre Centre de Cultura Contemporània
X-ORIGINAL-URL:https://octubre.cat
X-WR-CALDESC:Events for Octubre Centre de Cultura Contemporània
BEGIN:VTIMEZONE
TZID:Europe/Andorra
BEGIN:DAYLIGHT
TZOFFSETFROM:+0100
TZOFFSETTO:+0200
TZNAME:CEST
DTSTART:20150329T010000
END:DAYLIGHT
BEGIN:STANDARD
TZOFFSETFROM:+0200
TZOFFSETTO:+0100
TZNAME:CET
DTSTART:20151025T010000
END:STANDARD
END:VTIMEZONE
BEGIN:VEVENT
DTSTART;TZID=Europe/Andorra:20151223T190000
DTEND;TZID=Europe/Andorra:20151223T190000
DTSTAMP:20260421T040724
CREATED:20200729T171510Z
LAST-MODIFIED:20200730T041625Z
UID:10444-1450897200-1450897200@octubre.cat
SUMMARY:'El cielo sube'\, de Marc Recha
DESCRIPTION:Dilluns 21 de setembre a les 19.00h. Projecció presentada pel seu protagonista\, Salvador Dolz i inclosa dins del cicle de cinema Barcelona Escenari.  \n  \n  \n\n Projecció presentada pel protagonista\, Salvador Dolz.  El cielo sube\, la primera pel·lícula de Marc Recha\, està inspirada en el llibre Oceanografia del tedi\, d’Eugeni d’Ors\, de 1918. Es tracta d’una narració sintètica i plàstica\, en la qual tota l’acció ha estat abolida i s’arriba a un exercici intel·lectual en la frontera amb la ironia. Una opulència de sensacions\, drames i peripècies se succeeixen en l’interior de la psique i la ment del protagonista\, que gaudeix d’un oci quiet i passiu. Profunditzant en els detalls de les coses més insignificats\, evoca sensacions carregades de filosofia i sentit psicològic.  Director: Marc Recha (1991) Guió: Marc Recha i Joaquín Ojeda Música: Miquel Jordan Fotografia: Miguel Llorens (B&W) Repartiment: Salvador Dolz\, Corinne Alba\, Ona Planas\, Lluís Porcar Productora: NOFILMS SA / Marc Recha P.C. Durada: 70’  Cicle organitzat per l’Octubre Centre de Cultura Contemporània amb el patrocini de l’Institut de Cultura de Barcelona Col·labora: Mostra Viva Direcció del cicle: Antonio Lloréns
URL:https://octubre.cat/activitat/el-cielo-sube-de-marc-recha/
LOCATION:Sala d’actes
CATEGORIES:Barcelona escenari 2015 (cinema)
ATTACH;FMTTYPE=image/jpeg:https://octubre.cat/www/wp-content/uploads/2020/07/activitat2468.jpg
END:VEVENT
END:VCALENDAR