BEGIN:VCALENDAR
VERSION:2.0
PRODID:-//Octubre Centre de Cultura Contemporània - ECPv5.1.6//NONSGML v1.0//EN
CALSCALE:GREGORIAN
METHOD:PUBLISH
X-WR-CALNAME:Octubre Centre de Cultura Contemporània
X-ORIGINAL-URL:https://octubre.cat
X-WR-CALDESC:Events for Octubre Centre de Cultura Contemporània
BEGIN:VTIMEZONE
TZID:Europe/Andorra
BEGIN:DAYLIGHT
TZOFFSETFROM:+0100
TZOFFSETTO:+0200
TZNAME:CEST
DTSTART:20070325T010000
END:DAYLIGHT
BEGIN:STANDARD
TZOFFSETFROM:+0200
TZOFFSETTO:+0100
TZNAME:CET
DTSTART:20071028T010000
END:STANDARD
END:VTIMEZONE
BEGIN:VEVENT
DTSTART;TZID=Europe/Andorra:20070509T190000
DTEND;TZID=Europe/Andorra:20070509T190000
DTSTAMP:20260420T181620
CREATED:20251207T233519Z
LAST-MODIFIED:20251207T233519Z
UID:24214-1178737200-1178737200@octubre.cat
SUMMARY:El canvi climàtic vs. el canvi socioeconòmic
DESCRIPTION:“El canvi climàtic vs. el canvi socioeconòmic”\nA càrrec de Ramon Folch\, director general d’ERF\, president del Consell Social de la Universitat Politècnica de Catalunya.
URL:https://octubre.cat/activitat/el-canvi-climatic-vs-el-canvi-socioeconomic/
LOCATION:Aula 1
CATEGORIES:Canvi climàtic, la perspectiva científica
ATTACH;FMTTYPE=image/jpeg:https://octubre.cat/www/wp-content/uploads/2020/07/conferencia1.jpg
END:VEVENT
END:VCALENDAR