BEGIN:VCALENDAR
VERSION:2.0
PRODID:-//Octubre Centre de Cultura Contemporània - ECPv5.1.6//NONSGML v1.0//EN
CALSCALE:GREGORIAN
METHOD:PUBLISH
X-WR-CALNAME:Octubre Centre de Cultura Contemporània
X-ORIGINAL-URL:https://octubre.cat
X-WR-CALDESC:Events for Octubre Centre de Cultura Contemporània
BEGIN:VTIMEZONE
TZID:Europe/Andorra
BEGIN:DAYLIGHT
TZOFFSETFROM:+0100
TZOFFSETTO:+0200
TZNAME:CEST
DTSTART:20080330T010000
END:DAYLIGHT
BEGIN:STANDARD
TZOFFSETFROM:+0200
TZOFFSETTO:+0100
TZNAME:CET
DTSTART:20081026T010000
END:STANDARD
END:VTIMEZONE
BEGIN:VEVENT
DTSTART;TZID=Europe/Andorra:20080506T193000
DTEND;TZID=Europe/Andorra:20080506T193000
DTSTAMP:20260420T204008
CREATED:20200729T181854Z
LAST-MODIFIED:20200730T035735Z
UID:12573-1210102200-1210102200@octubre.cat
SUMMARY:Eivissa. Música popular ara\, de Javier Argente
DESCRIPTION:Dimarts 6\, 19.30h.  Aquest documental fa un recorregut per la música tradicional eivissenca en l’actualitat i la coexistència pacífica amb la música elèctrònica. Les colles\, els instruments\, els ucs… i el retrobament amb un vell conegut\, el cèlebre Joan Marí “Moreno” fundador del grup UC.   \n  \n  \n\nFarem un recorregut per la música tradicional eivissenca en l’actualitat i la coexistència pacífica amb la música elèctrònica. Les colles\, els instruments\, els ucs… i el retrobament amb un vell conegut\, el cèlebre Joan Marí “Moreno” fundador del grup UC.  Direcció i guió: Javier Argente Realització: Jordi Piris Any: 2007
URL:https://octubre.cat/activitat/eivissa-musica-popular-ara-de-javier-argente/
LOCATION:No definit
CATEGORIES:Cicle de Documentals
ATTACH;FMTTYPE=image/jpeg:https://octubre.cat/www/wp-content/uploads/2020/07/cinema1.jpg
END:VEVENT
END:VCALENDAR