BEGIN:VCALENDAR
VERSION:2.0
PRODID:-//Octubre Centre de Cultura Contemporània - ECPv5.1.6//NONSGML v1.0//EN
CALSCALE:GREGORIAN
METHOD:PUBLISH
X-WR-CALNAME:Octubre Centre de Cultura Contemporània
X-ORIGINAL-URL:https://octubre.cat
X-WR-CALDESC:Events for Octubre Centre de Cultura Contemporània
BEGIN:VTIMEZONE
TZID:Europe/Andorra
BEGIN:DAYLIGHT
TZOFFSETFROM:+0100
TZOFFSETTO:+0200
TZNAME:CEST
DTSTART:20150329T010000
END:DAYLIGHT
BEGIN:STANDARD
TZOFFSETFROM:+0200
TZOFFSETTO:+0100
TZNAME:CET
DTSTART:20151025T010000
END:STANDARD
END:VTIMEZONE
BEGIN:VEVENT
DTSTART;TZID=Europe/Andorra:20150611T183000
DTEND;TZID=Europe/Andorra:20150611T183000
DTSTAMP:20260421T225006
CREATED:20200729T171124Z
LAST-MODIFIED:20200730T041451Z
UID:10205-1434047400-1434047400@octubre.cat
SUMMARY:Eines de traducció assistida en línia
DESCRIPTION:Dijous 11 de juny a les 18.30h. Conferència a càrrec d’Antoni Oliver\, professor i director del Màster de Traducció especialitzada de la Universitat Oberta de Catalunya.  \n  \n  \n\n A càrrec d’Antoni Oliver\, professor i director del Màster de Traducció especialitzada de la Universitat Oberta de Catalunya  Xerrada per a descobrir les principals eines de traducció assistida en línia del mercat. Aquestes eines permeten treballar en els nostres projectes de traducció des de qualsevol ordinador amb connexió a Internet i faciliten enormement el treball col·laboratiu. Moltes d’aquestes eines són d’ús gratuït\, algunes fins i tot de programari lliure\, i la majoria de les comercials funcionen amb subscripcions mensuals o anuals de preu reduït. Amb aquest tipus d’eines els traductors tenen l’oportunitat de gaudir dels darrers avenços en tecnologies de la traducció amb una inversió nul·la o bé molt reduïda.  Acte organitzat per la UOC amb la col·laboració de l’Octubre CCC. Assistència lliure i gratuïta prèvia inscripció.
URL:https://octubre.cat/activitat/eines-de-traduccio-assistida-en-linia/
LOCATION:Àtic
CATEGORIES:Conferències i congressos
ATTACH;FMTTYPE=image/jpeg:https://octubre.cat/www/wp-content/uploads/2020/07/activitat2341.jpg
END:VEVENT
END:VCALENDAR