BEGIN:VCALENDAR
VERSION:2.0
PRODID:-//Octubre Centre de Cultura Contemporània - ECPv5.1.6//NONSGML v1.0//EN
CALSCALE:GREGORIAN
METHOD:PUBLISH
X-WR-CALNAME:Octubre Centre de Cultura Contemporània
X-ORIGINAL-URL:https://octubre.cat
X-WR-CALDESC:Events for Octubre Centre de Cultura Contemporània
BEGIN:VTIMEZONE
TZID:Europe/Andorra
BEGIN:DAYLIGHT
TZOFFSETFROM:+0100
TZOFFSETTO:+0200
TZNAME:CEST
DTSTART:20160327T010000
END:DAYLIGHT
BEGIN:STANDARD
TZOFFSETFROM:+0200
TZOFFSETTO:+0100
TZNAME:CET
DTSTART:20161030T010000
END:STANDARD
END:VTIMEZONE
BEGIN:VEVENT
DTSTART;TZID=Europe/Andorra:20160112T200000
DTEND;TZID=Europe/Andorra:20160112T200000
DTSTAMP:20260421T054427
CREATED:20200729T171443Z
LAST-MODIFIED:20200730T041616Z
UID:10416-1452628800-1452628800@octubre.cat
SUMMARY:duo duo
DESCRIPTION:Dimarts 12 de gener a les 20.00h. Sessió d’improvisació musical amb Avelino Saavedra\, Josep Lluís Galiana\, Martí Guillem i Fernando Junquera.  \n  \n  \n\n Sessió d´improvisació lliure a càrrec de :  Josep Lluís Galiana (vents) + Fernando Junquera (cordes)  Avelino Saavedra (percussió) + Martí Guillem (electrònica)  Entrada: de 5 a 10 €  Organitzat per PinPanPun amb la col·laboració de l’Octubre CCC.
URL:https://octubre.cat/activitat/duo-duo/
CATEGORIES:Música
ATTACH;FMTTYPE=image/jpeg:https://octubre.cat/www/wp-content/uploads/2020/07/activitat2455.jpg
END:VEVENT
END:VCALENDAR