BEGIN:VCALENDAR
VERSION:2.0
PRODID:-//Octubre Centre de Cultura Contemporània - ECPv5.1.6//NONSGML v1.0//EN
CALSCALE:GREGORIAN
METHOD:PUBLISH
X-WR-CALNAME:Octubre Centre de Cultura Contemporània
X-ORIGINAL-URL:https://octubre.cat
X-WR-CALDESC:Events for Octubre Centre de Cultura Contemporània
BEGIN:VTIMEZONE
TZID:Europe/Andorra
BEGIN:DAYLIGHT
TZOFFSETFROM:+0100
TZOFFSETTO:+0200
TZNAME:CEST
DTSTART:20160327T010000
END:DAYLIGHT
BEGIN:STANDARD
TZOFFSETFROM:+0200
TZOFFSETTO:+0100
TZNAME:CET
DTSTART:20161030T010000
END:STANDARD
END:VTIMEZONE
BEGIN:VEVENT
DTSTART;TZID=Europe/Andorra:20160616T000000
DTEND;TZID=Europe/Andorra:20160723T000000
DTSTAMP:20260421T151730
CREATED:20200729T171941Z
LAST-MODIFIED:20200903T165817Z
UID:10734-1466035200-1469232000@octubre.cat
SUMMARY:'Dracs'\, il·lustracions de Cento Yuste
DESCRIPTION:Inauguració: dijous 16 de juny a les 21.00h. \nEl Drac\, com a màxim exponent de la tradició xinesa\, representa el domini dels cinc elements: terra\, aire\, foc\, aigua i metall. Símbol benefactor\, representa la divinitat\, vigila\, protegeix i atrau la bona sort. El Signe del Drac és el cinquè animal de l’Horòscop Xinés i l’emblema de l’Emperador a la Xina antiga. Els dracs xinesos simbolitzen també el poder\, la valentia i l’audàcia\, l’heroisme\, la perseverança\, la noblesa i la divinitat. Són enèrgics\, decisius\, optimistes\, intel·ligents i ambiciosos. A diferència dels dracs europeus\, els dracs orientals són bells\, amigables i savis. A la Xina són estimats i venerats. \nAmb un estil gràfic inconfusible que utilitza la seua iconografia paisatgística\, geomètrica i urbana com un mecano\, Cento Yuste reinterpreta quatre caps de drac\, símbol omnipresent a la cultura xinesa. \nInstal·lació realitzada per l’Institut Confuci de la Universitat de València amb la col·laboració de l’Octubre CCC. Comissària: Lupe Frígols.
URL:https://octubre.cat/activitat/dracs-illustracions-de-cento-yuste/
LOCATION:Hall
CATEGORIES:Instal·lacions
ATTACH;FMTTYPE=image/gif:https://octubre.cat/www/wp-content/uploads/2020/07/activitat2619.gif
END:VEVENT
END:VCALENDAR