BEGIN:VCALENDAR
VERSION:2.0
PRODID:-//Octubre Centre de Cultura Contemporània - ECPv5.1.6//NONSGML v1.0//EN
CALSCALE:GREGORIAN
METHOD:PUBLISH
X-WR-CALNAME:Octubre Centre de Cultura Contemporània
X-ORIGINAL-URL:https://octubre.cat
X-WR-CALDESC:Events for Octubre Centre de Cultura Contemporània
BEGIN:VTIMEZONE
TZID:Europe/Andorra
BEGIN:DAYLIGHT
TZOFFSETFROM:+0100
TZOFFSETTO:+0200
TZNAME:CEST
DTSTART:20090329T010000
END:DAYLIGHT
BEGIN:STANDARD
TZOFFSETFROM:+0200
TZOFFSETTO:+0100
TZNAME:CET
DTSTART:20091025T010000
END:STANDARD
END:VTIMEZONE
BEGIN:VEVENT
DTSTART;TZID=Europe/Andorra:20090329T190000
DTEND;TZID=Europe/Andorra:20090329T190000
DTSTAMP:20260421T014504
CREATED:20200729T182343Z
LAST-MODIFIED:20200729T182343Z
UID:12781-1238353200-1238353200@octubre.cat
SUMMARY:Dr. Groovenstein
DESCRIPTION:Diumenge 29 de febrer\, a les 19.00h: Dr. Groovenstein  \n  \n  \n\nA partir de les restes en descomposició de diversos estils musicals (turntablism\, jazz\, metal\, hip hop\, funk)\, Dr. Groovenstein crea nova vida\, un monstre deforme de ritme implacable en el qual es barregen sons i instrumentacions acústiques i electròniques\, executades amb fervor per cadascun dels seus cinc acòlits.   Vicent Colonques (teclat) Dj Taktel (turntables) Paco Bernal (percusió) Jordi Colonques (baix) Héctor Tirado (guitarra) J.Avelino (bateria)
URL:https://octubre.cat/activitat/dr-groovenstein/
LOCATION:No definit
CATEGORIES:Diumenges de Jazz!
ATTACH;FMTTYPE=image/jpeg:https://octubre.cat/www/wp-content/uploads/2020/07/activitat806.jpg
END:VEVENT
END:VCALENDAR