BEGIN:VCALENDAR
VERSION:2.0
PRODID:-//Octubre Centre de Cultura Contemporània - ECPv5.1.6//NONSGML v1.0//EN
CALSCALE:GREGORIAN
METHOD:PUBLISH
X-WR-CALNAME:Octubre Centre de Cultura Contemporània
X-ORIGINAL-URL:https://octubre.cat
X-WR-CALDESC:Events for Octubre Centre de Cultura Contemporània
BEGIN:VTIMEZONE
TZID:Europe/Andorra
BEGIN:DAYLIGHT
TZOFFSETFROM:+0100
TZOFFSETTO:+0200
TZNAME:CEST
DTSTART:20130331T010000
END:DAYLIGHT
BEGIN:STANDARD
TZOFFSETFROM:+0200
TZOFFSETTO:+0100
TZNAME:CET
DTSTART:20131027T010000
END:STANDARD
END:VTIMEZONE
BEGIN:VEVENT
DTSTART;TZID=Europe/Andorra:20131115T193000
DTEND;TZID=Europe/Andorra:20131115T193000
DTSTAMP:20260421T020133
CREATED:20200729T170202Z
LAST-MODIFIED:20200729T184223Z
UID:9614-1384543800-1384543800@octubre.cat
SUMMARY:Dos pal sac
DESCRIPTION:Divendres 15 de novembre a les 19.30h. Un espectacle de Vicent Cortés i Llorenç Giménez  \n  \n  \n\n Espectacle de Candinaxis de secà i de regadiu per Llorenç Giménez i Vicent Cortés  Sinopsi: Cinc sacs ensacats dins d´un sac\, qui els desensacarà? Els desensacadors que els desensaquen\, bons desensacadors seran. Voilà: Dos pal sac …  Subsinopsi: Un sac\, ple de sacs farcits d’imprevistes paraules contades\, cantades\, teatralitzades i recitades.  Entrada: 7 euros
URL:https://octubre.cat/activitat/dos-pal-sac/
CATEGORIES:Teatre
ATTACH;FMTTYPE=image/jpeg:https://octubre.cat/www/wp-content/uploads/2020/07/activitat1878.jpg
END:VEVENT
END:VCALENDAR