BEGIN:VCALENDAR
VERSION:2.0
PRODID:-//Octubre Centre de Cultura Contemporània - ECPv5.1.6//NONSGML v1.0//EN
CALSCALE:GREGORIAN
METHOD:PUBLISH
X-WR-CALNAME:Octubre Centre de Cultura Contemporània
X-ORIGINAL-URL:https://octubre.cat
X-WR-CALDESC:Events for Octubre Centre de Cultura Contemporània
BEGIN:VTIMEZONE
TZID:Europe/Andorra
BEGIN:DAYLIGHT
TZOFFSETFROM:+0100
TZOFFSETTO:+0200
TZNAME:CEST
DTSTART:20070325T010000
END:DAYLIGHT
BEGIN:STANDARD
TZOFFSETFROM:+0200
TZOFFSETTO:+0100
TZNAME:CET
DTSTART:20071028T010000
END:STANDARD
END:VTIMEZONE
BEGIN:VEVENT
DTSTART;TZID=Europe/Andorra:20070306T000000
DTEND;TZID=Europe/Andorra:20070306T000000
DTSTAMP:20260420T171930
CREATED:20251229T172703Z
LAST-MODIFIED:20251229T172703Z
UID:24457-1173139200-1173139200@octubre.cat
SUMMARY:Dones periodistes: Marie Colvin
DESCRIPTION:Jornades Internacionals de Dones Periodistes \nConferència “Els reptes de les dones periodistes en un món globalitzat” a càrrec de Marie Colvin (The Sunday Times).
URL:https://octubre.cat/activitat/dones-periodistes-marie-colvin/
LOCATION:No definit
CATEGORIES:Espai Dona
ATTACH;FMTTYPE=image/jpeg:https://octubre.cat/www/wp-content/uploads/2020/07/conferencia1.jpg
END:VEVENT
END:VCALENDAR