BEGIN:VCALENDAR
VERSION:2.0
PRODID:-//Octubre Centre de Cultura Contemporània - ECPv5.1.6//NONSGML v1.0//EN
CALSCALE:GREGORIAN
METHOD:PUBLISH
X-WR-CALNAME:Octubre Centre de Cultura Contemporània
X-ORIGINAL-URL:https://octubre.cat
X-WR-CALDESC:Events for Octubre Centre de Cultura Contemporània
BEGIN:VTIMEZONE
TZID:Europe/Andorra
BEGIN:DAYLIGHT
TZOFFSETFROM:+0100
TZOFFSETTO:+0200
TZNAME:CEST
DTSTART:20120325T010000
END:DAYLIGHT
BEGIN:STANDARD
TZOFFSETFROM:+0200
TZOFFSETTO:+0100
TZNAME:CET
DTSTART:20121028T010000
END:STANDARD
END:VTIMEZONE
BEGIN:VEVENT
DTSTART;TZID=Europe/Andorra:20121110T100000
DTEND;TZID=Europe/Andorra:20121110T100000
DTSTAMP:20260426T025936
CREATED:20200729T165844Z
LAST-MODIFIED:20200729T183938Z
UID:9428-1352541600-1352541600@octubre.cat
SUMMARY:Dones i política: noves perspectives per a l’acció
DESCRIPTION:Dissabte 10 de novembre\, de 10h a 19h. Àgora d’idees sota l’empara de l’independentisme\, el republicanisme i la justícia social\, organitzada per Esquerra Republicana del País Valencià  \n  \n  \n\nÀgora d’idees sota l’empara de l’independentisme\, el republicanisme i la justícia social  Organitzat per Esquerra Republicana del País Valencià  Programa  10:00h Benvinguda  10:30h Presentació de la jornada per les secretàries de les Federacions Territorials Dona PPCC  Exposició “Camí cap a la igualtat” per Carme Garcia Alberó\, presidenta de Dones de Xirivella per la Igualtat  11:00h Xerrada “Noves perspectives en la planificació i l’execució de l’acció de govern” per Teresa Jordà\, diputada d’Esquerra al Congrés  13:00h Tallers “Llenguatge masclista” a càrrec de Macu Gimeno\, d’Intersindical Valenciana i “Lideratge de Dones” a càrrec de Teresa Garcerà\, presidenta d’Esquerra-Horta  14:00h Dinar  16:00h Taller “Les dones joves vers el futur polític” a càrrec de Marta Serrano\, secretària de la Dona de les JERPV  17:00h Taula redona “Els drets de les dones i els reptes de futur” amb Beatriu Cardona\, d’Intersindical Valenciana; Isabel Descals i Irene Puig\, de Col•lectiu LAMBDA; Anna Oliver\, d’Associació de Dones Juristes d’Alzira i Encarna Canet\, Intervenció i Treball Social  18:30h Berenar  19:00h Cloenda: Construcció col•lectiva d’obra artística amb les aportacions de les assistents i lectura del Manifest de la Jornada per Núria Arnau\, secretària General d’ERPV  Més informació\, inscripcions i reserves a través d’ERPV
URL:https://octubre.cat/activitat/dones-i-politica-noves-perspectives-per-a-laccio/
LOCATION:No definit
CATEGORIES:Conferències i congressos
ATTACH;FMTTYPE=image/jpeg:https://octubre.cat/www/wp-content/uploads/2020/07/conferencia1.jpg
END:VEVENT
END:VCALENDAR