BEGIN:VCALENDAR
VERSION:2.0
PRODID:-//Octubre Centre de Cultura Contemporània - ECPv5.1.6//NONSGML v1.0//EN
CALSCALE:GREGORIAN
METHOD:PUBLISH
X-WR-CALNAME:Octubre Centre de Cultura Contemporània
X-ORIGINAL-URL:https://octubre.cat
X-WR-CALDESC:Events for Octubre Centre de Cultura Contemporània
BEGIN:VTIMEZONE
TZID:Europe/Andorra
BEGIN:DAYLIGHT
TZOFFSETFROM:+0100
TZOFFSETTO:+0200
TZNAME:CEST
DTSTART:20170326T010000
END:DAYLIGHT
BEGIN:STANDARD
TZOFFSETFROM:+0200
TZOFFSETTO:+0100
TZNAME:CET
DTSTART:20171029T010000
END:STANDARD
END:VTIMEZONE
BEGIN:VEVENT
DTSTART;TZID=Europe/Andorra:20170330T000000
DTEND;TZID=Europe/Andorra:20170421T000000
DTSTAMP:20260420T181122
CREATED:20200729T172512Z
LAST-MODIFIED:20200904T151950Z
UID:11087-1490832000-1492732800@octubre.cat
SUMMARY:'Dones i desplaçament forçat a Colòmbia'
DESCRIPTION:Inauguració: dijous 30 de març a les 20.00h. \nA Colòmbia\, milions de dones de totes les edats pateixen el rigor de la guerra: desarrelades de les seues terres\, desposseïdes de les seues pertinences\, truncats els seus projectes vitals. Moltes van perdre les seues filles i fills\, els esposos o companys\, amigues\, amics\, veïns i altres éssers estimats. A més\, massa vegades han estat testimonis de massacres o elles mateixes van ser sotmeses als pitjors tractes i violacions. Elles\, que carreguen el seu dolor i el dels seus\, són també les artífexs de la supervivència de les seues comunitats. Són elles qui troben la manera de suportar la cruesa de les seues condicions i de reunir els recursos per a continuar endavant: quotidianament s’omplin del coratge necessari per a sanar el dany\, sargir tot allò fet miques per la guerra\, i enmig de la profunda complexitat i de la falta de suports\, tiren endavant els seus entre la runa que han deixat els més de quaranta anys de conflicte armat a Colòmbia. L’exposició fotogràfica “Dones i desplaçament forçat a Colòmbia”\, una encertada proposta de l’ONG Atelier Cooperació Internacional per al Desenvolupament\, ens convida a conèixer aquests rostres que brillen enmig de la guerra i la violència; les protagonistes ens obrin les portes de sa casa i dels seus cors i ens porten des de la seua pròpia mirada al nucli de les seues biografies. Els seus habitatges\, construïts a vegades enmig del no-res\, esdevenen espais de resistència i d’esperança. Alimenten\, cuiden\, acompanyen\, construeixen i protegeixen els seus; elles alimenten l’esperança que els serveix de bitàcola per a alçar en el present la possibilitat d’un futur amb pau i justícia. \nLa mostra\, composta de quaranta obres realitzades per diferents fotògrafs\, ens acosta a aquestes dones colombianes. La força dels seus gestos és un símbol de la determinació dels seus actes per a sembrar en el present la ferma voluntat de cultivar personalment i col·lectivament una societat capaç d’afrontar els seus conflictes sense violència. \nUn projecte de: ONGD Atelier\, Cooperació Internacional per al Desenvolupament. \nExposició produïda pel Vicerectorat de Cultura de la Universitat de València.
URL:https://octubre.cat/activitat/dones-i-desplacament-forcat-a-colombia/
LOCATION:Sala d’exposicions
CATEGORIES:Exposicions
ATTACH;FMTTYPE=image/jpeg:https://octubre.cat/www/wp-content/uploads/2020/07/activitat2802.jpg
END:VEVENT
END:VCALENDAR