BEGIN:VCALENDAR
VERSION:2.0
PRODID:-//Octubre Centre de Cultura Contemporània - ECPv5.1.6//NONSGML v1.0//EN
CALSCALE:GREGORIAN
METHOD:PUBLISH
X-WR-CALNAME:Octubre Centre de Cultura Contemporània
X-ORIGINAL-URL:https://octubre.cat
X-WR-CALDESC:Events for Octubre Centre de Cultura Contemporània
BEGIN:VTIMEZONE
TZID:Europe/Andorra
BEGIN:DAYLIGHT
TZOFFSETFROM:+0100
TZOFFSETTO:+0200
TZNAME:CEST
DTSTART:20100328T010000
END:DAYLIGHT
BEGIN:STANDARD
TZOFFSETFROM:+0200
TZOFFSETTO:+0100
TZNAME:CET
DTSTART:20101031T010000
END:STANDARD
END:VTIMEZONE
BEGIN:VEVENT
DTSTART;TZID=Europe/Andorra:20101210T200000
DTEND;TZID=Europe/Andorra:20101210T200000
DTSTAMP:20260420T230738
CREATED:20200729T165245Z
LAST-MODIFIED:20200730T042640Z
UID:9066-1292011200-1292011200@octubre.cat
SUMMARY:Dones\, dones\, dones
DESCRIPTION:Divendres 10 de desembre\, a les 20.00h. Lectura dramatitzada de l’obra “Dones\, dones\, dones”\, de Manuel Molins\, guanyadora del Premi Octubre de Teatre 2009  \n  \n  \n\nLectura dramatitzada de l’obra Dones\, dones\, dones (premi Octubre de Teatre 2009).   En Dones\, dones\, dones\, Manuel Molins conta la història d’una família a partir de sis dones. És un relat calidoscòpic on es barregen sentiments\, enveges\, amors\, desigs i frustracions en una polifonia de veus i accions que s’entrecreuen.  Es tracta d’una història on el relat de conjunt que se’n deriva planteja -sense embuts ni tabús\, sense hipocresia ni impostura- temàtiques que afecten especialment la condició femenina: la inferioritat en l’àmbit laboral\, la submissió als codis masculins\, les estretors de la revolució sexual\, la violència\, la discriminació…  Crítica\, reivindicació i joc es fonen en una peça valent que insufla aire nou en els sovint resclosits discursos de gènere.   Direcció: Manuel Molins.   Intèrprets: Nacho Diago\, Empar Major\, Pilar Mata\, Pepa Juan\, Esther Vallés i Pilar Martínez.
URL:https://octubre.cat/activitat/dones-dones-dones/
LOCATION:No definit
CATEGORIES:Teatre
ATTACH;FMTTYPE=image/jpeg:https://octubre.cat/www/wp-content/uploads/2020/07/activitat1323.jpg
END:VEVENT
END:VCALENDAR