BEGIN:VCALENDAR
VERSION:2.0
PRODID:-//Octubre Centre de Cultura Contemporània - ECPv5.1.6//NONSGML v1.0//EN
CALSCALE:GREGORIAN
METHOD:PUBLISH
X-WR-CALNAME:Octubre Centre de Cultura Contemporània
X-ORIGINAL-URL:https://octubre.cat
X-WR-CALDESC:Events for Octubre Centre de Cultura Contemporània
BEGIN:VTIMEZONE
TZID:Europe/Andorra
BEGIN:DAYLIGHT
TZOFFSETFROM:+0100
TZOFFSETTO:+0200
TZNAME:CEST
DTSTART:20160327T010000
END:DAYLIGHT
BEGIN:STANDARD
TZOFFSETFROM:+0200
TZOFFSETTO:+0100
TZNAME:CET
DTSTART:20161030T010000
END:STANDARD
END:VTIMEZONE
BEGIN:VEVENT
DTSTART;TZID=Europe/Andorra:20160220T200000
DTEND;TZID=Europe/Andorra:20160220T200000
DTSTAMP:20260421T151555
CREATED:20200729T171626Z
LAST-MODIFIED:20200729T185415Z
UID:10524-1455998400-1455998400@octubre.cat
SUMMARY:Donallop
DESCRIPTION:Espai Octubre Concerts. Dissabte 20 de febrer a les 20.00h. Entrades a 5€ (anticipada i taquilla).  \n  \n  \n\n Donallop és el grup de música mallorquí que conformen Pere Antoni Bestard i Joana Maria Pol. S’uniren l’estiu de 2009 per crear un repertori de versions amb no més intenció que tocar i fer concerts en directe. Havent consolidat el projecte\, han anat elaborant un repertori de cançons pròpies\, com també una característica forma de dur a terme els seus concerts\, familiars\, propers i sincers. Compten amb l’ambició de projectar la seva música internacionalment. Han fet de la música la seva forma de vida. Tenen publicats els treballs Veus que vius (2013)\, Clorofil·la (2014\, amb Pau Debon) i #Milestones (el seu primer llarg\, 2014).  Entrades: Anticipada a notikumi.com: 5 € Taquilla: 5 €  — Espai Octubre Concerts és una iniciativa de l’Octubre CCC gestionada per les productores musicals Metrònom\, Play Producciones\,  Mésdemil i lacasacalba.org.
URL:https://octubre.cat/activitat/donallop/
CATEGORIES:Espai Octubre Concerts
ATTACH;FMTTYPE=image/jpeg:https://octubre.cat/www/wp-content/uploads/2020/07/activitat2509.jpg
END:VEVENT
END:VCALENDAR