BEGIN:VCALENDAR
VERSION:2.0
PRODID:-//Octubre Centre de Cultura Contemporània - ECPv5.1.6//NONSGML v1.0//EN
CALSCALE:GREGORIAN
METHOD:PUBLISH
X-WR-CALNAME:Octubre Centre de Cultura Contemporània
X-ORIGINAL-URL:https://octubre.cat
X-WR-CALDESC:Events for Octubre Centre de Cultura Contemporània
BEGIN:VTIMEZONE
TZID:Europe/Andorra
BEGIN:DAYLIGHT
TZOFFSETFROM:+0100
TZOFFSETTO:+0200
TZNAME:CEST
DTSTART:20100328T010000
END:DAYLIGHT
BEGIN:STANDARD
TZOFFSETFROM:+0200
TZOFFSETTO:+0100
TZNAME:CET
DTSTART:20101031T010000
END:STANDARD
END:VTIMEZONE
BEGIN:VEVENT
DTSTART;TZID=Europe/Andorra:20101211T190000
DTEND;TZID=Europe/Andorra:20101211T190000
DTSTAMP:20260421T004236
CREATED:20200729T165252Z
LAST-MODIFIED:20200730T042642Z
UID:9073-1292094000-1292094000@octubre.cat
SUMMARY:Dolçaina. Del carrer a l'aula
DESCRIPTION:Dissabte 11 de desembre\, a les 19.00h: Preestrena del documental “Dolçaina. Del carrer a l’aula”\, de Rubén Soler.  \n  \n  \n\nDolçaina. Del carrer a l’aula A principi dels anys 70\, la processó de la Mare de Déu de la Salut d’Algemesí es va veure afectada per la manca de dolçainers\, responsables des de fa segles de la característica atmosfera sonora de les festes als pobles valencians. Des d’aleshores\, l’instrument i els seus intèrprets han experimentat un desenvolupament tant tècnic com acadèmic\, premiat amb un immens reconeixement social. El documental Dolçaina. Del carrer a l’aula\, que es projecta per primera vegada\, com a preestrena\, a l’Octubre CCC i que el pròxim dia 17 de desembre podrà veure’s també a la Casa de Cultura de Gandia\, entrevista alguns dels protagonistes d’aquest canvi. Dolçainers com Joan Blasco i Xavier Richart\, juntament amb altres músics\, reflexionen sobre les conquestes obtingudes i el camí que queda per recórrer.  Fitxa tècnica Direcció: Rubén Soler Ferrer Guió: Jordi Cano Deltoro Edició: Rubén Soler Ferrer i Jordi Cano del Toro Producció: 1000TRETZE & CEIC Alfons el Vell Idea original: Frederic Santamaria
URL:https://octubre.cat/activitat/dolcaina-del-carrer-a-laula/
LOCATION:No definit
CATEGORIES:Cinema
ATTACH;FMTTYPE=image/jpeg:https://octubre.cat/www/wp-content/uploads/2020/07/activitat1325.jpg
END:VEVENT
END:VCALENDAR