BEGIN:VCALENDAR
VERSION:2.0
PRODID:-//Octubre Centre de Cultura Contemporània - ECPv5.1.6//NONSGML v1.0//EN
CALSCALE:GREGORIAN
METHOD:PUBLISH
X-WR-CALNAME:Octubre Centre de Cultura Contemporània
X-ORIGINAL-URL:https://octubre.cat
X-WR-CALDESC:Events for Octubre Centre de Cultura Contemporània
BEGIN:VTIMEZONE
TZID:Europe/Andorra
BEGIN:DAYLIGHT
TZOFFSETFROM:+0100
TZOFFSETTO:+0200
TZNAME:CEST
DTSTART:20080330T010000
END:DAYLIGHT
BEGIN:STANDARD
TZOFFSETFROM:+0200
TZOFFSETTO:+0100
TZNAME:CET
DTSTART:20081026T010000
END:STANDARD
END:VTIMEZONE
BEGIN:VEVENT
DTSTART;TZID=Europe/Andorra:20080203T190000
DTEND;TZID=Europe/Andorra:20080203T190000
DTSTAMP:20260420T201808
CREATED:20200729T181716Z
LAST-MODIFIED:20200730T035620Z
UID:12479-1202065200-1202065200@octubre.cat
SUMMARY:Dolç Tab Jazz
DESCRIPTION:Diumenge 3\, 19.00h. Des d’Ondara (la Marina Alta)\, Dolç Tab Jazz fusionen els sons tradicionals de la dolçaina amb el jazz clàssic i actual\, amb actuacions que combinen versions de temes de  Duke Ellington o Chick Corea amb arranjaments de temes populars valencians i cançons de producció pròpia.  \n  \n  \n\nDes d’Ondara (la Marina Alta)\, Dolç Tab Jazz fusionen els sons tradicionals de la dolçaina amb el jazz clàssic i actual\, amb actuacions que combinen versions de temes de  Duke Ellington o Chick Corea amb arranjaments de temes populars valencians i cançons de producció pròpia.
URL:https://octubre.cat/activitat/dolc-tab-jazz/
LOCATION:No definit
CATEGORIES:Diumenges de Jazz!
ATTACH;FMTTYPE=image/jpeg:https://octubre.cat/www/wp-content/uploads/2020/07/musica1.jpg
END:VEVENT
END:VCALENDAR