BEGIN:VCALENDAR
VERSION:2.0
PRODID:-//Octubre Centre de Cultura Contemporània - ECPv5.1.6//NONSGML v1.0//EN
CALSCALE:GREGORIAN
METHOD:PUBLISH
X-WR-CALNAME:Octubre Centre de Cultura Contemporània
X-ORIGINAL-URL:https://octubre.cat
X-WR-CALDESC:Events for Octubre Centre de Cultura Contemporània
BEGIN:VTIMEZONE
TZID:Europe/Andorra
BEGIN:DAYLIGHT
TZOFFSETFROM:+0100
TZOFFSETTO:+0200
TZNAME:CEST
DTSTART:20250330T010000
END:DAYLIGHT
BEGIN:STANDARD
TZOFFSETFROM:+0200
TZOFFSETTO:+0100
TZNAME:CET
DTSTART:20251026T010000
END:STANDARD
END:VTIMEZONE
BEGIN:VEVENT
DTSTART;TZID=Europe/Andorra:20250526T190000
DTEND;TZID=Europe/Andorra:20250526T190000
DTSTAMP:20260420T231102
CREATED:20250512T082552Z
LAST-MODIFIED:20250512T082552Z
UID:22749-1748286000-1748286000@octubre.cat
SUMMARY:Documental Mallorca 1983. Signes a l’arena\, de Pinxo & Cesc Mulet
DESCRIPTION:Presentació i col·loqui a càrrec de Pinxo (director)\, Núria Cano (directora de producció) i Victòria Perelló (guionista). \n— \nLa Movida es va germinar a Madrid\, però va trencar la barrera de la insularitat per a instaurar-se a Mallorca\, on prenent la data del Primer Concurs Pop-Rock de l’estiu de 1983\, va començar una autèntica revolució artística que van gestar artistes i músics de la talla de Furnish Time\, Peor Impossible\, Zincpirithione\, La Granja o La Búsqueda… Amb Max\, Pere Joan\, Tatum… Rafel Juan\, Juan Segura o un Miquel Barceló que es fa universal. \n  \n \n  \nMiguel Rios\, Ana Curra\, Jesús Ordovás\, Luis Auserón o Servando Carballar són alguns dels artistes que van venir a l’illa i recorden amb les seves anècdotes aquell moment. \n  \n \n  \nDirecció: Pinxo & Cesc Mulet\nGuió: Victòria Perelló\nProducció: Núria Cano\nDirecció de fotografia: Jaume Caldentey\nEdició: Xesca Rebassa\, Ángel García\nMúsica: Els resplendents escorpins platejats\nNarració: Clara Ingold\nProducció: La Perifèrica i MallorcaNochentas en coproducció amb IB3 / Televisió de les Illes Balears\nAny: 2024\nVO en català i castellà\nDurada: 68 min \n 
URL:https://octubre.cat/activitat/documental-mallorca-1983-signes-a-larena-de-pinxo-cesc-mulet/
LOCATION:Sala d’actes
CATEGORIES:Cinema
ATTACH;FMTTYPE=image/jpeg:https://octubre.cat/www/wp-content/uploads/2025/05/46_Signes-arena_001-web.jpg
END:VEVENT
END:VCALENDAR