BEGIN:VCALENDAR
VERSION:2.0
PRODID:-//Octubre Centre de Cultura Contemporània - ECPv5.1.6//NONSGML v1.0//EN
CALSCALE:GREGORIAN
METHOD:PUBLISH
X-WR-CALNAME:Octubre Centre de Cultura Contemporània
X-ORIGINAL-URL:https://octubre.cat
X-WR-CALDESC:Events for Octubre Centre de Cultura Contemporània
BEGIN:VTIMEZONE
TZID:Europe/Andorra
BEGIN:DAYLIGHT
TZOFFSETFROM:+0100
TZOFFSETTO:+0200
TZNAME:CEST
DTSTART:20200329T010000
END:DAYLIGHT
BEGIN:STANDARD
TZOFFSETFROM:+0200
TZOFFSETTO:+0100
TZNAME:CET
DTSTART:20201025T010000
END:STANDARD
END:VTIMEZONE
BEGIN:VEVENT
DTSTART;TZID=Europe/Andorra:20200129T190000
DTEND;TZID=Europe/Andorra:20200129T190000
DTSTAMP:20260421T072501
CREATED:20200729T191319Z
LAST-MODIFIED:20200729T191319Z
UID:13667-1580324400-1580324400@octubre.cat
SUMMARY:Documental "El PSAN i l'independentisme català (1968-2018)"
DESCRIPTION:Dimecres 29 de gener a les 19.00h.	 \n  \n  \n\n 	 Un documental que\, amb abundantíssima documentació oral\, escrita i gràfica\, recorre els primers anys del PSAN i l’independentisme: del 1968 al 1993.  Guió i documentació: Maria Conca i Josep Guia (2019) Producció: PSAN\, Edicions Lluita Realització: L’Àbac (Biar): Eduard Garcia i Mercelo López Durada: 56’  — Organitzat pel PSAN
URL:https://octubre.cat/activitat/documental-el-psan-i-lindependentisme-catala-1968-2018/
LOCATION:Sala d’actes
CATEGORIES:Cinema
ATTACH;FMTTYPE=image/jpeg:https://octubre.cat/www/wp-content/uploads/2020/07/activitat3408.jpg
END:VEVENT
END:VCALENDAR