BEGIN:VCALENDAR
VERSION:2.0
PRODID:-//Octubre Centre de Cultura Contemporània - ECPv5.1.6//NONSGML v1.0//EN
CALSCALE:GREGORIAN
METHOD:PUBLISH
X-WR-CALNAME:Octubre Centre de Cultura Contemporània
X-ORIGINAL-URL:https://octubre.cat
X-WR-CALDESC:Events for Octubre Centre de Cultura Contemporània
BEGIN:VTIMEZONE
TZID:Europe/Andorra
BEGIN:DAYLIGHT
TZOFFSETFROM:+0100
TZOFFSETTO:+0200
TZNAME:CEST
DTSTART:20190331T010000
END:DAYLIGHT
BEGIN:STANDARD
TZOFFSETFROM:+0200
TZOFFSETTO:+0100
TZNAME:CET
DTSTART:20191027T010000
END:STANDARD
END:VTIMEZONE
BEGIN:VEVENT
DTSTART;TZID=Europe/Andorra:20191119T190000
DTEND;TZID=Europe/Andorra:20191119T190000
DTSTAMP:20260423T035157
CREATED:20200729T173608Z
LAST-MODIFIED:20200729T191255Z
UID:11577-1574190000-1574190000@octubre.cat
SUMMARY:Documental "Brossa\, la insurrecció poètica"\, de Sergi Guix i Eduard Miguel
DESCRIPTION:Dimarts 19 de novembre a les 19.00h. En celebració de l’Any Joan Brossa. Entrada lliure.	 \n  \n  \n\n 	 Brossa\, la insurrecció poètica fa un recorregut artístic i biogràfic sobre la figura del poeta Joan Brossa. Des que va començar en el món de la literatura\, a través de la coneixença de J. V. Foix fins a la influència i mestratge que ha tingut en l’àmbit artístic\, a través d’experiències avantguardistes cabdals com la revista “Dau al Set”. Poeta lliure i total\, també va escriure més de tres-centes cinquanta obres teatrals i encara avui la seva poesia visual i objectual és reconeguda internacionalment. Joan Brossa va ser un artista avantguardista multidisciplinari\, que va treballar l’escriptura\, la poesia narrativa i visual\, el cinema\, la música\, entre d’altres. És considerat un dels tres grans avantguardistes catalans juntament amb Miró i Tàpies. És autor de 1.438 poemes visuals\, 350 obres de teatre\, 53 llibres d’artista\, 300 objectes i moltes altres produccions artístiques. El reconeixement\, però\, no li va arribar fins a 40 anys després de començar a produir i va viure molt temps al llindar de la misèria\, fins i tot\, al final de la seva vida quan ja era un autor reconegut. Com és possible aquesta marginalitat? Com és que\, a diferència de Miró i Tàpies\, es conegui tan poc el poeta i la seva obra?  Direcció: Sergi Guix i Eduard Miguel Imatge: Tània Ribas i Diego López Música: Cabo San Roque Edició: Eduard Miguel i Sergi Guix Una producció de: Zeba Produccions amb la col·laboració de la Corporació Catalana de Mitjans Audiovisuals\, i amb el suport de la Fundació Joan Brossa\, l’ICEC i la Institució de les Lletres Catalanes.  — En celebració de l’Any Joan Brossa.  Ho organitzen Acció Cultural del País Valencià\, l’Associació d’Escriptors en Llengua Catalana i el PEN Català amb la col·laboració de la Institució de les Lletres Catalanes\, la Fundació Joan Brossa i el Pla Valencià de Foment del Llibre i la Lectura de la Generalitat Valenciana.
URL:https://octubre.cat/activitat/documental-brossa-la-insurreccio-poetica-de-sergi-guix-i-eduard-miguel/
LOCATION:Sala d’actes
CATEGORIES:Cinema
ATTACH;FMTTYPE=image/jpeg:https://octubre.cat/www/wp-content/uploads/2020/07/activitat3377.jpg
END:VEVENT
END:VCALENDAR