BEGIN:VCALENDAR
VERSION:2.0
PRODID:-//Octubre Centre de Cultura Contemporània - ECPv5.1.6//NONSGML v1.0//EN
CALSCALE:GREGORIAN
METHOD:PUBLISH
X-WR-CALNAME:Octubre Centre de Cultura Contemporània
X-ORIGINAL-URL:https://octubre.cat
X-WR-CALDESC:Events for Octubre Centre de Cultura Contemporània
BEGIN:VTIMEZONE
TZID:Europe/Andorra
BEGIN:DAYLIGHT
TZOFFSETFROM:+0100
TZOFFSETTO:+0200
TZNAME:CEST
DTSTART:20250330T010000
END:DAYLIGHT
BEGIN:STANDARD
TZOFFSETFROM:+0200
TZOFFSETTO:+0100
TZNAME:CET
DTSTART:20251026T010000
END:STANDARD
END:VTIMEZONE
BEGIN:VEVENT
DTSTART;TZID=Europe/Andorra:20250515T180000
DTEND;TZID=Europe/Andorra:20250515T180000
DTSTAMP:20260420T160517
CREATED:20250426T155110Z
LAST-MODIFIED:20250427T153723Z
UID:22647-1747332000-1747332000@octubre.cat
SUMMARY:DocsValència 2025: Soñando fútbol\, de Gonzalo Gurrea Ysasi
DESCRIPTION:Un diàleg amb deu exfutbolistes dels anys noranta que ens expliquen la seua manera d’entendre l’esport que van viure\, amb les seues llums però també amb les seues ombres. Una visió allunyada dels grans titulars que han acostumat protagonitzar i en la que es deixa veure l’esperit d’un esport que actualment no té referents per a les noves generacions. \nDirecció: Gonzalo Gurrea Ysasi\nProducció: María José Más\nFotografia: Christian Villalba Alcaide\nEdició: Gonzalo Gurrea Ysasi\nDisseny sonor: Gonzalo Gurrea Ysasi\nEstrena: mundial\nPaís: Espanya\nAny: 2025\nDurada: 71 min\nIdioma: castellà \n  \n\n—\nLa novena edició del Festival DocsValència / Espai de No Ficció se celebra a València del 9 al 17 de maig de 2025. Les sessions tenen lloc als Cines Lys\, el Col·legi Major Rector Peset\, el Centre del Carme i l’Octubre CCC.
URL:https://octubre.cat/activitat/docsvalencia-2025-sonando-futbol-de-gonzalo-gurrea-ysasi/
LOCATION:Sala d’actes
CATEGORIES:DocsValència 2025
ATTACH;FMTTYPE=image/jpeg:https://octubre.cat/www/wp-content/uploads/2025/04/Still-1-Sonando-futbol.jpg
END:VEVENT
END:VCALENDAR