BEGIN:VCALENDAR
VERSION:2.0
PRODID:-//Octubre Centre de Cultura Contemporània - ECPv5.1.6//NONSGML v1.0//EN
CALSCALE:GREGORIAN
METHOD:PUBLISH
X-WR-CALNAME:Octubre Centre de Cultura Contemporània
X-ORIGINAL-URL:https://octubre.cat
X-WR-CALDESC:Events for Octubre Centre de Cultura Contemporània
BEGIN:VTIMEZONE
TZID:Europe/Andorra
BEGIN:DAYLIGHT
TZOFFSETFROM:+0100
TZOFFSETTO:+0200
TZNAME:CEST
DTSTART:20250330T010000
END:DAYLIGHT
BEGIN:STANDARD
TZOFFSETFROM:+0200
TZOFFSETTO:+0100
TZNAME:CET
DTSTART:20251026T010000
END:STANDARD
END:VTIMEZONE
BEGIN:VEVENT
DTSTART;TZID=Europe/Andorra:20250511T180000
DTEND;TZID=Europe/Andorra:20250511T180000
DTSTAMP:20260421T103517
CREATED:20250427T091241Z
LAST-MODIFIED:20250427T091241Z
UID:22676-1746986400-1746986400@octubre.cat
SUMMARY:DocsValència 2025: Hija del volcán\, de Jenifer de la Rosa
DESCRIPTION:Amb trenta anys\, Jenifer comença a explorar els seus orígens biològics. L’única informació que té sobre la seua adopció a Espanya està relacionada amb la catàstrofe d’Armero\, provocada pel volcà Nevado del Ruiz a Colòmbia\, i que sa mare podria continuar viva. La seua investigació la porta de tornada a la terra que la va veure néixer\, on diverses persones l’ajuden a descobrir el seu passat. El seu viatge culmina quan\, inesperadament\, coneix algú que canvia la realitat per a sempre. \nDirecció: Jenifer de la Rosa\nProducció: Amaya Izquierdo\, Jenifer de la Rosa\nFotografia: Andrés Campos\nEdició: Juan Barrero\, Carlos Cañas\nDisseny sonor: Mario Martínez\nEstrena: València\nPaís: Espanya\, Mèxic\nAny: 2024\nDurada: 109 min\nIdioma: castellà \n  \n\n—\nLa novena edició del Festival DocsValència / Espai de No Ficció se celebra a València del 9 al 17 de maig de 2025. Les sessions tenen lloc als Cines Lys\, el Col·legi Major Rector Peset\, el Centre del Carme i l’Octubre CCC.
URL:https://octubre.cat/activitat/docsvalencia-2025-hija-del-volcan-de-jenifer-de-la-rosa/
LOCATION:Sala d’actes
CATEGORIES:DocsValència 2025
ATTACH;FMTTYPE=image/jpeg:https://octubre.cat/www/wp-content/uploads/2025/04/Hija-del-volcan-STILL-1.jpg
END:VEVENT
END:VCALENDAR