BEGIN:VCALENDAR
VERSION:2.0
PRODID:-//Octubre Centre de Cultura Contemporània - ECPv5.1.6//NONSGML v1.0//EN
CALSCALE:GREGORIAN
METHOD:PUBLISH
X-WR-CALNAME:Octubre Centre de Cultura Contemporània
X-ORIGINAL-URL:https://octubre.cat
X-WR-CALDESC:Events for Octubre Centre de Cultura Contemporània
BEGIN:VTIMEZONE
TZID:Europe/Andorra
BEGIN:DAYLIGHT
TZOFFSETFROM:+0100
TZOFFSETTO:+0200
TZNAME:CEST
DTSTART:20250330T010000
END:DAYLIGHT
BEGIN:STANDARD
TZOFFSETFROM:+0200
TZOFFSETTO:+0100
TZNAME:CET
DTSTART:20251026T010000
END:STANDARD
END:VTIMEZONE
BEGIN:VEVENT
DTSTART;TZID=Europe/Andorra:20250517T180000
DTEND;TZID=Europe/Andorra:20250517T180000
DTSTAMP:20260420T143204
CREATED:20250427T100314Z
LAST-MODIFIED:20250427T100314Z
UID:22688-1747504800-1747504800@octubre.cat
SUMMARY:DocsValència 2025: A lo loco\, de Vicent Peris
DESCRIPTION:Històries d’usuaris i professionals de la salut mental que evidencien la importància de la sanitat pública\, les xarxes de cura i el suport comunitari. Un retrat de lluites individuals i col·lectives per la dignitat i l’autonomia\, que visibilitza la fragilitat del sistema i la fortalesa dels qui el sostenen. Un documental que qüestiona prejudicis\, reivindica drets i mostra la necessitat de polítiques públiques que prioritzen el benestar i la inclusió. \nDirecció: Vicent Peris\nProducció: Dani Fabra\nFotografia: Dani Fabra\nEdició: Vicent Peris\, Dani Fabra\nDisseny sonor: Marc Arenas\nPaís: Espanya\nAny: 2024\nDurada: 59 min.\nIdioma: castellà\, valencià \n  \n\n—\nLa novena edició del Festival DocsValència / Espai de No Ficció se celebra a València del 9 al 17 de maig de 2025. Les sessions tenen lloc als Cines Lys\, el Col·legi Major Rector Peset\, el Centre del Carme i l’Octubre CCC.
URL:https://octubre.cat/activitat/docsvalencia-2025-a-lo-loco-de-vicent-peris/
LOCATION:Sala d’actes
CATEGORIES:DocsValència 2025
ATTACH;FMTTYPE=image/jpeg:https://octubre.cat/www/wp-content/uploads/2025/04/A-lo-loco-1-72-dpi-opt.jpg
END:VEVENT
END:VCALENDAR