BEGIN:VCALENDAR
VERSION:2.0
PRODID:-//Octubre Centre de Cultura Contemporània - ECPv5.1.6//NONSGML v1.0//EN
CALSCALE:GREGORIAN
METHOD:PUBLISH
X-WR-CALNAME:Octubre Centre de Cultura Contemporània
X-ORIGINAL-URL:https://octubre.cat
X-WR-CALDESC:Events for Octubre Centre de Cultura Contemporània
BEGIN:VTIMEZONE
TZID:Europe/Andorra
BEGIN:DAYLIGHT
TZOFFSETFROM:+0100
TZOFFSETTO:+0200
TZNAME:CEST
DTSTART:20230326T010000
END:DAYLIGHT
BEGIN:STANDARD
TZOFFSETFROM:+0200
TZOFFSETTO:+0100
TZNAME:CET
DTSTART:20231029T010000
END:STANDARD
END:VTIMEZONE
BEGIN:VEVENT
DTSTART;TZID=Europe/Andorra:20230512T200000
DTEND;TZID=Europe/Andorra:20230512T200000
DTSTAMP:20260422T131105
CREATED:20230502T091848Z
LAST-MODIFIED:20250710T085048Z
UID:19923-1683921600-1683921600@octubre.cat
SUMMARY:DocsValència 2023: Sucro\, de Vicent Pons i Toni Lucas
DESCRIPTION:A prop de la desembocadura del riu Xúquer\, uns bussos descobreixen restes arqueològiques que demostraran l’existència d’un important nucli comercial connectat amb altres ports del Mediterrani. El paper del riu sempre havia sigut un enigma… fins ara. Durant segles hem aprés a conviure amb ell i continuem abocant el millor i el pitjor de la nostra identitat a les seues aigües. Però\, on acaba la seua història i comença la nostra? \nDirecció: Vicent Pons\, Toni Lucas\nProducció: Bressol Produccions\nFotografia: Vicent Pons\, Toni Lucas\nEdició: Toni Lucas\nDisseny sonor: Lluís Enguix\nPaís: Espanya\nAny: 2023\nDuració: 90 min\nIdioma: castellà\, valencià \n  \n \n—\nLa setena edició del Festival DocsValència / Espai de No Ficció se celebra a València del 5 al 13 de maig de 2023. Les sessions tenen lloc als Cines Lys\, el Col·legi Major Rector Peset\, La Filmoteca\, La Nau i l’Octubre CCC.
URL:https://octubre.cat/activitat/docsvalencia-2023-sucro-de-vicent-pons-i-toni-lucas/
LOCATION:Sala d’actes
CATEGORIES:DocsValència 2023
ATTACH;FMTTYPE=image/webp:https://octubre.cat/www/wp-content/uploads/2023/05/Sucro-Still.webp
END:VEVENT
END:VCALENDAR