BEGIN:VCALENDAR
VERSION:2.0
PRODID:-//Octubre Centre de Cultura Contemporània - ECPv5.1.6//NONSGML v1.0//EN
CALSCALE:GREGORIAN
METHOD:PUBLISH
X-WR-CALNAME:Octubre Centre de Cultura Contemporània
X-ORIGINAL-URL:https://octubre.cat
X-WR-CALDESC:Events for Octubre Centre de Cultura Contemporània
BEGIN:VTIMEZONE
TZID:Europe/Andorra
BEGIN:DAYLIGHT
TZOFFSETFROM:+0100
TZOFFSETTO:+0200
TZNAME:CEST
DTSTART:20230326T010000
END:DAYLIGHT
BEGIN:STANDARD
TZOFFSETFROM:+0200
TZOFFSETTO:+0100
TZNAME:CET
DTSTART:20231029T010000
END:STANDARD
END:VTIMEZONE
BEGIN:VEVENT
DTSTART;TZID=Europe/Andorra:20230507T190000
DTEND;TZID=Europe/Andorra:20230507T190000
DTSTAMP:20260420T155020
CREATED:20230501T121013Z
LAST-MODIFIED:20230501T121013Z
UID:19868-1683486000-1683486000@octubre.cat
SUMMARY:DocsValència 2023: Rethinking Cities\, de Javier Cumella Jordán
DESCRIPTION:Segons les Nacions Unides\, el 70% de la població mundial viurà en ciutats en 2050. Tanmateix\, les ciutats ja no es desenvolupen entorn de recursos naturals\, com rius o mines\, sinó entorn d’un altre recurs natural: el coneixement\, el qual prové d’universitats i altres institucions. Quin és el seu rol en crear ciutats sostenibles i habitables? \nDirecció: Javier Cumella Jordán\nProducció: Ana Puentes\, Álvaro Cuadrado\nFotografia: Nacho Armentera\nEdició: Rocío Fernández\, Javier Cumella\nPaís: Espanya\nAny: 2022\nDuració: 19 min\nIdioma: anglès \n  \n \n—\nLa setena edició del Festival DocsValència / Espai de No Ficció se celebra a València del 5 al 13 de maig de 2023. Les sessions tenen lloc als Cines Lys\, el Col·legi Major Rector Peset\, La Filmoteca\, La Nau i l’Octubre CCC.
URL:https://octubre.cat/activitat/docsvalencia-2023-rethinking-cities-de-javier-cumella-jordan/
LOCATION:Sala d’actes
CATEGORIES:DocsValència 2023
ATTACH;FMTTYPE=image/webp:https://octubre.cat/www/wp-content/uploads/2023/05/RethinkingCities-Still.webp
END:VEVENT
END:VCALENDAR