BEGIN:VCALENDAR
VERSION:2.0
PRODID:-//Octubre Centre de Cultura Contemporània - ECPv5.1.6//NONSGML v1.0//EN
CALSCALE:GREGORIAN
METHOD:PUBLISH
X-WR-CALNAME:Octubre Centre de Cultura Contemporània
X-ORIGINAL-URL:https://octubre.cat
X-WR-CALDESC:Events for Octubre Centre de Cultura Contemporània
BEGIN:VTIMEZONE
TZID:Europe/Andorra
BEGIN:DAYLIGHT
TZOFFSETFROM:+0100
TZOFFSETTO:+0200
TZNAME:CEST
DTSTART:20230326T010000
END:DAYLIGHT
BEGIN:STANDARD
TZOFFSETFROM:+0200
TZOFFSETTO:+0100
TZNAME:CET
DTSTART:20231029T010000
END:STANDARD
END:VTIMEZONE
BEGIN:VEVENT
DTSTART;TZID=Europe/Andorra:20230507T210000
DTEND;TZID=Europe/Andorra:20230507T210000
DTSTAMP:20260420T104555
CREATED:20230501T124019Z
LAST-MODIFIED:20230501T124019Z
UID:19877-1683493200-1683493200@octubre.cat
SUMMARY:DocsValència 2023: Réquiem Georg\, de Raúl Riebenbauer
DESCRIPTION:Un periodista li demana al seu segon pare que fabrique un objecte per a un ritual funerari. Amb ell tractarà de tancar una llarga i obsessiva investigació sobre el cas de Georg Welzel: un dels dos últims executats a garrot vil per la dictadura de Franco a  Espanya. \nDirecció: Raúl Riebenbauer\nProducció: Raúl Riebenbauer\, Nayra Sanz Fuentes\nFotografia: Raúl Riebenbauer\nEdició: Raúl Riebenbauer\, Nayra Sanz Fuentes\nPaís: Espanya\nAny: 2022\nDuració: 24 min\nIdioma: castellà\, alemany \n  \n \n—\nLa setena edició del Festival DocsValència / Espai de No Ficció se celebra a València del 5 al 13 de maig de 2023. Les sessions tenen lloc als Cines Lys\, el Col·legi Major Rector Peset\, La Filmoteca\, La Nau i l’Octubre CCC.
URL:https://octubre.cat/activitat/docsvalencia-2023-requiem-georg-de-raul-riebenbauer/
LOCATION:Sala d’actes
CATEGORIES:DocsValència 2023
ATTACH;FMTTYPE=image/webp:https://octubre.cat/www/wp-content/uploads/2023/05/RequiemGeorg-Still.webp
END:VEVENT
END:VCALENDAR