BEGIN:VCALENDAR
VERSION:2.0
PRODID:-//Octubre Centre de Cultura Contemporània - ECPv5.1.6//NONSGML v1.0//EN
CALSCALE:GREGORIAN
METHOD:PUBLISH
X-WR-CALNAME:Octubre Centre de Cultura Contemporània
X-ORIGINAL-URL:https://octubre.cat
X-WR-CALDESC:Events for Octubre Centre de Cultura Contemporània
BEGIN:VTIMEZONE
TZID:Europe/Andorra
BEGIN:DAYLIGHT
TZOFFSETFROM:+0100
TZOFFSETTO:+0200
TZNAME:CEST
DTSTART:20230326T010000
END:DAYLIGHT
BEGIN:STANDARD
TZOFFSETFROM:+0200
TZOFFSETTO:+0100
TZNAME:CET
DTSTART:20231029T010000
END:STANDARD
END:VTIMEZONE
BEGIN:VEVENT
DTSTART;TZID=Europe/Andorra:20230511T180000
DTEND;TZID=Europe/Andorra:20230511T180000
DTSTAMP:20260420T125003
CREATED:20230502T085711Z
LAST-MODIFIED:20230502T085711Z
UID:19910-1683828000-1683828000@octubre.cat
SUMMARY:DocsValència 2023: Novelda-Japón\, d’Alfredo Navarro Benito
DESCRIPTION:Novelda-Japón és l’aventura d’un jove que\, després d’un accident de cotxe en el qual quasi perd la vida\, decideix trencar amb tot i marxar sense diners a la recerca del seu somni: viatjar al Japó. Aquest documental ens narra\, a tall de diari de càmera\, les experiències d’aquest jove i la vida de les persones que es creuaren en el seu camí i l’ajudaren a complir el seu objectiu. \nDirecció: Alfredo Navarro Benito\nProducció: Alfredo Navarro Benito\nFotografia: Alfredo Navarro Benito\nEdició: Toni Arnedo\, Alfredo Navarro\nDisseny sonor: Fele Pastor\nPaís: Espanya\nAny: 2022\nDuració: 114 min\nIdioma: castellà\, italià \n  \n \n—\nLa setena edició del Festival DocsValència / Espai de No Ficció se celebra a València del 5 al 13 de maig de 2023. Les sessions tenen lloc als Cines Lys\, el Col·legi Major Rector Peset\, La Filmoteca\, La Nau i l’Octubre CCC.
URL:https://octubre.cat/activitat/docsvalencia-2023-novelda-japon-dalfredo-navarro-benito/
LOCATION:Sala d’actes
CATEGORIES:DocsValència 2023
ATTACH;FMTTYPE=image/webp:https://octubre.cat/www/wp-content/uploads/2023/05/NoveldaJapon-Still.webp
END:VEVENT
END:VCALENDAR