BEGIN:VCALENDAR
VERSION:2.0
PRODID:-//Octubre Centre de Cultura Contemporània - ECPv5.1.6//NONSGML v1.0//EN
CALSCALE:GREGORIAN
METHOD:PUBLISH
X-WR-CALNAME:Octubre Centre de Cultura Contemporània
X-ORIGINAL-URL:https://octubre.cat
X-WR-CALDESC:Events for Octubre Centre de Cultura Contemporània
BEGIN:VTIMEZONE
TZID:Europe/Andorra
BEGIN:DAYLIGHT
TZOFFSETFROM:+0100
TZOFFSETTO:+0200
TZNAME:CEST
DTSTART:20230326T010000
END:DAYLIGHT
BEGIN:STANDARD
TZOFFSETFROM:+0200
TZOFFSETTO:+0100
TZNAME:CET
DTSTART:20231029T010000
END:STANDARD
END:VTIMEZONE
BEGIN:VEVENT
DTSTART;TZID=Europe/Andorra:20230510T163000
DTEND;TZID=Europe/Andorra:20230510T163000
DTSTAMP:20260421T134542
CREATED:20230501T164800Z
LAST-MODIFIED:20230501T164800Z
UID:19894-1683736200-1683736200@octubre.cat
SUMMARY:DocsValència 2023: Las tres muertes de Teófilo del Valle\, de Manuel de Juan Navarro
DESCRIPTION:El 24 de febrer de 1976\, Teófilo del Valle es creua amb les mobilitzacions obreres a Elda (Vinalopó Mitjà). Un policia li dispara sis trets per l’esquena. Fou el primer assassinat policial de la monarquia de Juan Carlos I. Un jutge resisteix la pressió del poder que pretén eliminar les proves que incriminen el policia. Un relat de l’anomenada «transició» a través de la investigació que emprenen un pare —testimoni dels fets— i el seu propi fill. \nDirecció: Manuel de Juan Navarro\nProducció: Manuel de Juan Navarro\nFotografia: Javier J. Gerónimo\, Manel de Juan Poveda\nEdició: Marallavi Films\nPaís: Espanya\nAny: 2023\nDuració: 51 min\nIdioma: castellà\, valencià \n  \n \n—\nLa setena edició del Festival DocsValència / Espai de No Ficció se celebra a València del 5 al 13 de maig de 2023. Les sessions tenen lloc als Cines Lys\, el Col·legi Major Rector Peset\, La Filmoteca\, La Nau i l’Octubre CCC.
URL:https://octubre.cat/activitat/docsvalencia-2023-las-tres-muertes-de-teofilo-del-valle-de-manuel-de-juan-navarro/
LOCATION:Sala d’actes
CATEGORIES:DocsValència 2023
ATTACH;FMTTYPE=image/webp:https://octubre.cat/www/wp-content/uploads/2023/05/LasTresMuertes-Still.webp
END:VEVENT
END:VCALENDAR