BEGIN:VCALENDAR
VERSION:2.0
PRODID:-//Octubre Centre de Cultura Contemporània - ECPv5.1.6//NONSGML v1.0//EN
CALSCALE:GREGORIAN
METHOD:PUBLISH
X-WR-CALNAME:Octubre Centre de Cultura Contemporània
X-ORIGINAL-URL:https://octubre.cat
X-WR-CALDESC:Events for Octubre Centre de Cultura Contemporània
BEGIN:VTIMEZONE
TZID:Europe/Andorra
BEGIN:DAYLIGHT
TZOFFSETFROM:+0100
TZOFFSETTO:+0200
TZNAME:CEST
DTSTART:20230326T010000
END:DAYLIGHT
BEGIN:STANDARD
TZOFFSETFROM:+0200
TZOFFSETTO:+0100
TZNAME:CET
DTSTART:20231029T010000
END:STANDARD
END:VTIMEZONE
BEGIN:VEVENT
DTSTART;TZID=Europe/Andorra:20230507T180000
DTEND;TZID=Europe/Andorra:20230507T180000
DTSTAMP:20260420T144336
CREATED:20230501T111809Z
LAST-MODIFIED:20230501T111809Z
UID:19860-1683482400-1683482400@octubre.cat
SUMMARY:DocsValència 2023: La voz queda\, de Laura Pérez Gómez
DESCRIPTION:Tres generacions de dones d’una mateixa família trenquen amb el silenci d’una llarga història que va començar el 1939. El record d’Alejandro penja d’un fil de veu a punt de trencar-se. \nDirecció: Laura Pérez Gómez\nProducció: Laura Pérez Gómez\nFotografia: Laura Pérez Gómez\nEdició: Laura Pérez Gómez\nPaís: Espanya\nAny: 2022\nDuració: 19 min\nIdioma: castellà \n  \n \n—\nLa setena edició del Festival DocsValència / Espai de No Ficció se celebra a València del 5 al 13 de maig de 2023. Les sessions tenen lloc als Cines Lys\, el Col·legi Major Rector Peset\, La Filmoteca\, La Nau i l’Octubre CCC.
URL:https://octubre.cat/activitat/docsvalencia-2023-la-voz-queda-de-laura-perez-gomez/
LOCATION:Sala d’actes
CATEGORIES:DocsValència 2023
ATTACH;FMTTYPE=image/webp:https://octubre.cat/www/wp-content/uploads/2023/05/LaVozQueda-Still.webp
END:VEVENT
END:VCALENDAR