BEGIN:VCALENDAR
VERSION:2.0
PRODID:-//Octubre Centre de Cultura Contemporània - ECPv5.1.6//NONSGML v1.0//EN
CALSCALE:GREGORIAN
METHOD:PUBLISH
X-WR-CALNAME:Octubre Centre de Cultura Contemporània
X-ORIGINAL-URL:https://octubre.cat
X-WR-CALDESC:Events for Octubre Centre de Cultura Contemporània
BEGIN:VTIMEZONE
TZID:Europe/Andorra
BEGIN:DAYLIGHT
TZOFFSETFROM:+0100
TZOFFSETTO:+0200
TZNAME:CEST
DTSTART:20230326T010000
END:DAYLIGHT
BEGIN:STANDARD
TZOFFSETFROM:+0200
TZOFFSETTO:+0100
TZNAME:CET
DTSTART:20231029T010000
END:STANDARD
END:VTIMEZONE
BEGIN:VEVENT
DTSTART;TZID=Europe/Andorra:20230512T180000
DTEND;TZID=Europe/Andorra:20230512T180000
DTSTAMP:20260420T132552
CREATED:20230502T091502Z
LAST-MODIFIED:20230502T091502Z
UID:19920-1683914400-1683914400@octubre.cat
SUMMARY:DocsValència 2023: La Singla\, de Paloma Zapata
DESCRIPTION:Antonia Singla va néixer en els suburbis de Barcelona i es va quedar sorda poc després d’haver nascut\, raó per la qual va aprendre a ballar flamenc sense escoltar la música. Amb 17 anys va assolir un gran èxit internacional\, revolucionant el món del flamenc. A Alemanya el seu impacte fou tan gran que varen arribar a considerar-la com a la millor ‘bailaora’ del món. Però abans de complir els 30\, va desaparéixer dels escenaris. 50 anys després\, ha arribat el moment de contar la seua història. \nDirecció: Paloma Zapata\nProducció: La Fábrica Naranja\, Malandar Films\, inselfilm produktion\nFotografia: Dani Mauri\, Iñaki Gorraiz\nEdició: Paloma Zapata\nDisseny sonor: Hannes Schulze\nPaís: Espanya\, Alemanya\nAny: 2023\nDuració: 90 min\nIdioma: castellà \n  \n \n—\nLa setena edició del Festival DocsValència / Espai de No Ficció se celebra a València del 5 al 13 de maig de 2023. Les sessions tenen lloc als Cines Lys\, el Col·legi Major Rector Peset\, La Filmoteca\, La Nau i l’Octubre CCC.
URL:https://octubre.cat/activitat/docsvalencia-2023-la-singla-de-paloma-zapata/
LOCATION:Sala d’actes
CATEGORIES:DocsValència 2023
ATTACH;FMTTYPE=image/webp:https://octubre.cat/www/wp-content/uploads/2023/05/LaSingla-Still.webp
END:VEVENT
END:VCALENDAR