BEGIN:VCALENDAR
VERSION:2.0
PRODID:-//Octubre Centre de Cultura Contemporània - ECPv5.1.6//NONSGML v1.0//EN
CALSCALE:GREGORIAN
METHOD:PUBLISH
X-WR-CALNAME:Octubre Centre de Cultura Contemporània
X-ORIGINAL-URL:https://octubre.cat
X-WR-CALDESC:Events for Octubre Centre de Cultura Contemporània
BEGIN:VTIMEZONE
TZID:Europe/Andorra
BEGIN:DAYLIGHT
TZOFFSETFROM:+0100
TZOFFSETTO:+0200
TZNAME:CEST
DTSTART:20230326T010000
END:DAYLIGHT
BEGIN:STANDARD
TZOFFSETFROM:+0200
TZOFFSETTO:+0100
TZNAME:CET
DTSTART:20231029T010000
END:STANDARD
END:VTIMEZONE
BEGIN:VEVENT
DTSTART;TZID=Europe/Andorra:20230507T170000
DTEND;TZID=Europe/Andorra:20230507T170000
DTSTAMP:20260420T132554
CREATED:20230501T111027Z
LAST-MODIFIED:20230501T111027Z
UID:19857-1683478800-1683478800@octubre.cat
SUMMARY:DocsValència 2023: La promoción\, de Lucía Sáiz Alegre
DESCRIPTION:Quatre joves d’entre 24 i 30 anys reflexionen sobre les seues pors\, objectius i perspectives vitals\, així com sobre la seua situació actual. Tot açò en un context marcat per una realitat laboral\, econòmica i emocional summament complexa. \nDirecció: Lucía Sáiz Alegre\nProducció: Lucía Sáiz Alegre\nFotografia: Blanca Devís Sampedro\nEdició: Lucía Sáiz Alegre\nPaís: Espanya\nAny: 2021\nDuració: 19 min\nIdioma: castellà \n  \n \n—\nLa setena edició del Festival DocsValència / Espai de No Ficció se celebra a València del 5 al 13 de maig de 2023. Les sessions tenen lloc als Cines Lys\, el Col·legi Major Rector Peset\, La Filmoteca\, La Nau i l’Octubre CCC.
URL:https://octubre.cat/activitat/docsvalencia-2023-la-promocion-de-lucia-saiz-alegre/
LOCATION:Sala d’actes
CATEGORIES:DocsValència 2023
ATTACH;FMTTYPE=image/webp:https://octubre.cat/www/wp-content/uploads/2023/05/LaPromocion-Still.webp
END:VEVENT
END:VCALENDAR