BEGIN:VCALENDAR
VERSION:2.0
PRODID:-//Octubre Centre de Cultura Contemporània - ECPv5.1.6//NONSGML v1.0//EN
CALSCALE:GREGORIAN
METHOD:PUBLISH
X-WR-CALNAME:Octubre Centre de Cultura Contemporània
X-ORIGINAL-URL:https://octubre.cat
X-WR-CALDESC:Events for Octubre Centre de Cultura Contemporània
BEGIN:VTIMEZONE
TZID:Europe/Andorra
BEGIN:DAYLIGHT
TZOFFSETFROM:+0100
TZOFFSETTO:+0200
TZNAME:CEST
DTSTART:20230326T010000
END:DAYLIGHT
BEGIN:STANDARD
TZOFFSETFROM:+0200
TZOFFSETTO:+0100
TZNAME:CET
DTSTART:20231029T010000
END:STANDARD
END:VTIMEZONE
BEGIN:VEVENT
DTSTART;TZID=Europe/Andorra:20230507T163000
DTEND;TZID=Europe/Andorra:20230507T163000
DTSTAMP:20260420T120243
CREATED:20230501T110126Z
LAST-MODIFIED:20250710T085010Z
UID:19854-1683477000-1683477000@octubre.cat
SUMMARY:DocsValència 2023: La Fifla\, de Jordi Sebastià
DESCRIPTION:Un recorregut pels últims cent anys de la història de la ciutat\, a través de la vida d’una dona que resisteix el pas del temps i recorda tot el que ha vist\, perquè no desaparega. Passejant amb ella per la Punta\, entenem com ha canviat la vida i aprenem sobre la importància de la dignitat i la memòria. Una història particular sobre una vida\, una família\, un barri i una ciutat\, que alhora ens ensenya sobre l’amor\, la guerra\, el progrés i l’evolució d’una forma universal. \nDirecció: Jordi Sebastià\nProducció: Vicent Monsonís\nFotografia: Jesús Sorní\nEdició: Pablo Maison\nPaís: Espanya\nAny: 2023\nDuració: 28 min\nIdioma: valencià \n  \n \n—\nLa setena edició del Festival DocsValència / Espai de No Ficció se celebra a València del 5 al 13 de maig de 2023. Les sessions tenen lloc als Cines Lys\, el Col·legi Major Rector Peset\, La Filmoteca\, La Nau i l’Octubre CCC.
URL:https://octubre.cat/activitat/docsvalencia-2023-la-fifla-de-jordi-sebastia/
LOCATION:Sala d’actes
CATEGORIES:DocsValència 2023
ATTACH;FMTTYPE=image/webp:https://octubre.cat/www/wp-content/uploads/2023/05/LaFifla-Still.webp
END:VEVENT
END:VCALENDAR