BEGIN:VCALENDAR
VERSION:2.0
PRODID:-//Octubre Centre de Cultura Contemporània - ECPv5.1.6//NONSGML v1.0//EN
CALSCALE:GREGORIAN
METHOD:PUBLISH
X-WR-CALNAME:Octubre Centre de Cultura Contemporània
X-ORIGINAL-URL:https://octubre.cat
X-WR-CALDESC:Events for Octubre Centre de Cultura Contemporània
BEGIN:VTIMEZONE
TZID:Europe/Andorra
BEGIN:DAYLIGHT
TZOFFSETFROM:+0100
TZOFFSETTO:+0200
TZNAME:CEST
DTSTART:20230326T010000
END:DAYLIGHT
BEGIN:STANDARD
TZOFFSETFROM:+0200
TZOFFSETTO:+0100
TZNAME:CET
DTSTART:20231029T010000
END:STANDARD
END:VTIMEZONE
BEGIN:VEVENT
DTSTART;TZID=Europe/Andorra:20230511T160000
DTEND;TZID=Europe/Andorra:20230511T160000
DTSTAMP:20260420T125045
CREATED:20230502T085222Z
LAST-MODIFIED:20230502T085222Z
UID:19906-1683820800-1683820800@octubre.cat
SUMMARY:DocsValència 2023: Into the ice\, de Lars Henrik Ostenfeld
DESCRIPTION:Amb la seua innovadora investigació\, Jason Box\, Alan Hubbard i Dorthe Dahl-Jensen estan descobrint com de ràpid es fon el gel i les seues implicacions per a la humanitat. Sorprenents descobriments es troben amb imatges espectaculars de la naturalesa i l’expedició quan\, per exemple\, els investigadors descendeixen quasi 180 metres en un molí glacial\, un rècord mundial. Into the Ice és un viatge de descobriment a les enormes masses de gel de Groenlàndia\, la fosa de les quals canviarà la vida en el nostre planeta. \nDirecció: Lars Henrik Ostenfeld\nProducció: Malene Flindt Pedersen\, Stefan Kloos\, Signe Skov Thomsen\nFotografia: Lars Henrik Ostenfeld\nEdició: Marion Tuor\nDisseny sonor: Kristian Eidnes Andersen\, Patrick Svaneberg Vejen\nPaís: Alemanya\, Dinamarca\nAny: 2022\nDuració: 85 min\nIdioma: danès\, anglès \n  \n \n—\nLa setena edició del Festival DocsValència / Espai de No Ficció se celebra a València del 5 al 13 de maig de 2023. Les sessions tenen lloc als Cines Lys\, el Col·legi Major Rector Peset\, La Filmoteca\, La Nau i l’Octubre CCC
URL:https://octubre.cat/activitat/docsvalencia-2023-into-the-ice-de-lars-henrik-ostenfeld/
LOCATION:Sala d’actes
CATEGORIES:DocsValència 2023
ATTACH;FMTTYPE=image/webp:https://octubre.cat/www/wp-content/uploads/2023/05/IntoTheIce-Still.webp
END:VEVENT
END:VCALENDAR