BEGIN:VCALENDAR
VERSION:2.0
PRODID:-//Octubre Centre de Cultura Contemporània - ECPv5.1.6//NONSGML v1.0//EN
CALSCALE:GREGORIAN
METHOD:PUBLISH
X-WR-CALNAME:Octubre Centre de Cultura Contemporània
X-ORIGINAL-URL:https://octubre.cat
X-WR-CALDESC:Events for Octubre Centre de Cultura Contemporània
BEGIN:VTIMEZONE
TZID:Europe/Andorra
BEGIN:DAYLIGHT
TZOFFSETFROM:+0100
TZOFFSETTO:+0200
TZNAME:CEST
DTSTART:20230326T010000
END:DAYLIGHT
BEGIN:STANDARD
TZOFFSETFROM:+0200
TZOFFSETTO:+0100
TZNAME:CET
DTSTART:20231029T010000
END:STANDARD
END:VTIMEZONE
BEGIN:VEVENT
DTSTART;TZID=Europe/Andorra:20230506T200000
DTEND;TZID=Europe/Andorra:20230506T200000
DTSTAMP:20260420T144011
CREATED:20230501T095217Z
LAST-MODIFIED:20230501T095217Z
UID:19842-1683403200-1683403200@octubre.cat
SUMMARY:DocsValència 2023: Fashion Victims 2.0\, de María Lorenzo
DESCRIPTION:Una interpretació animada del mural executat per Escif en gener de 2022\, que  reflecteix el treball infantil en els països en desenvolupament per a la indústria de la moda. El curtmetratge dona vida als personatges del mural per a denunciar el sense sentit dels nostres hàbits de consum\, clarament insostenibles. Fashion Victims 2.0 és també un homenatge a l’art urbà de València i a Escif en particular: un artista que ha convertit el compromís social en la seua senya d’identitat. \nDirecció: María Lorenzo\nProducció: Enrique Millán\nEdició: María Lorenzo\nPaís: Espanya\nAny: 2023\nDuració: 2 min\nIdioma: castellà \n  \n \n—\nLa setena edició del Festival DocsValència / Espai de No Ficció se celebra a València del 5 al 13 de maig de 2023. Les sessions tenen lloc als Cines Lys\, el Col·legi Major Rector Peset\, La Filmoteca\, La Nau i l’Octubre CCC.
URL:https://octubre.cat/activitat/docsvalencia-2023-fashion-victims-2-0-de-maria-lorenzo/
LOCATION:Sala d’actes
CATEGORIES:DocsValència 2023
ATTACH;FMTTYPE=image/webp:https://octubre.cat/www/wp-content/uploads/2023/05/FashionVictims-Still.webp
END:VEVENT
END:VCALENDAR