BEGIN:VCALENDAR
VERSION:2.0
PRODID:-//Octubre Centre de Cultura Contemporània - ECPv5.1.6//NONSGML v1.0//EN
CALSCALE:GREGORIAN
METHOD:PUBLISH
X-WR-CALNAME:Octubre Centre de Cultura Contemporània
X-ORIGINAL-URL:https://octubre.cat
X-WR-CALDESC:Events for Octubre Centre de Cultura Contemporània
BEGIN:VTIMEZONE
TZID:Europe/Andorra
BEGIN:DAYLIGHT
TZOFFSETFROM:+0100
TZOFFSETTO:+0200
TZNAME:CEST
DTSTART:20230326T010000
END:DAYLIGHT
BEGIN:STANDARD
TZOFFSETFROM:+0200
TZOFFSETTO:+0100
TZNAME:CET
DTSTART:20231029T010000
END:STANDARD
END:VTIMEZONE
BEGIN:VEVENT
DTSTART;TZID=Europe/Andorra:20230506T190000
DTEND;TZID=Europe/Andorra:20230506T190000
DTSTAMP:20260420T160332
CREATED:20230501T094606Z
LAST-MODIFIED:20230501T094712Z
UID:19838-1683399600-1683399600@octubre.cat
SUMMARY:DocsValència 2023: Écoutez-moi\, de Paula Armijo
DESCRIPTION:Vint-i-cinc anys després d’escapar-se de sa casa a Marroc\, una dona necessita contar per què va fugir sense donar cap explicació. Encara no es veu capaç de fer-ho donant la cara\, però grava la seua veu des de l’anonimat\, esperant poder signar prompte les seues paraules. \nDirecció: Paula Armijo\nProducció: Elena Bru\nFotografia: Elena Bru\nEdició: Paula Armijo\nPaís: Espanya\nAny: 2021\nDuració: 17 min\nIdioma: castellà \n  \n \n—\nLa setena edició del Festival DocsValència / Espai de No Ficció se celebra a València del 5 al 13 de maig de 2023. Les sessions tenen lloc als Cines Lys\, el Col·legi Major Rector Peset\, La Filmoteca\, La Nau i l’Octubre CCC.
URL:https://octubre.cat/activitat/docsvalencia-2023-ecoutez-mou-de-paula-armijo/
LOCATION:Sala d’actes
CATEGORIES:DocsValència 2023
ATTACH;FMTTYPE=image/webp:https://octubre.cat/www/wp-content/uploads/2023/05/Escuchame-Still-1.webp
END:VEVENT
END:VCALENDAR