BEGIN:VCALENDAR
VERSION:2.0
PRODID:-//Octubre Centre de Cultura Contemporània - ECPv5.1.6//NONSGML v1.0//EN
CALSCALE:GREGORIAN
METHOD:PUBLISH
X-WR-CALNAME:Octubre Centre de Cultura Contemporània
X-ORIGINAL-URL:https://octubre.cat
X-WR-CALDESC:Events for Octubre Centre de Cultura Contemporània
BEGIN:VTIMEZONE
TZID:Europe/Andorra
BEGIN:DAYLIGHT
TZOFFSETFROM:+0100
TZOFFSETTO:+0200
TZNAME:CEST
DTSTART:20220327T010000
END:DAYLIGHT
BEGIN:STANDARD
TZOFFSETFROM:+0200
TZOFFSETTO:+0100
TZNAME:CET
DTSTART:20221030T010000
END:STANDARD
END:VTIMEZONE
BEGIN:VEVENT
DTSTART;TZID=Europe/Andorra:20220510T203000
DTEND;TZID=Europe/Andorra:20220510T203000
DTSTAMP:20260422T140839
CREATED:20220423T151357Z
LAST-MODIFIED:20220423T151357Z
UID:18182-1652214600-1652214600@octubre.cat
SUMMARY:DocsValència 2022: Zinder\, d’Aïcha Macky
DESCRIPTION:A la ciutat de Zinder\, al Níger\, a la zona pobra de Kara-Kara\, hi regna una cultura de violència de bandes. Un grup de joves intenta alliberar-se d’aquesta violència\, formant famílies i guanyant-se la vida en lloc d’acabar a la presó. Aïcha Macky filma la seua vida diària dividida entre les bandes i les famílies. Descobrim com afronten hàbilment els desafiaments de la vida. \nDirecció: Aïcha Macky\nProducció: Le Point du Jour-Les Films de Balibari\, Tabous Productions\, Corso Films\nFotografia: Julien Bossé\nEdició: Karen Benainous\nPaís: Alemanya\, França\, Níger\nAny: 2021\nDuració: 82 min\nIdioma: haussa \n  \n \n—\nLa sisena edició del Festival DocsValència / Espai de No Ficció se celebra a València del 6 al 14 de maig de 2022. Les sessions tenen lloc als Cines Lys\, el Col·legi Major Rector Peset\, La Filmoteca\, Sant Miquel dels Reis i l’Octubre CCC.
URL:https://octubre.cat/activitat/docsvalencia-2022-zinder-daicha-macky/
LOCATION:Sala d’actes
CATEGORIES:DocsValència 2022
ATTACH;FMTTYPE=image/jpeg:https://octubre.cat/www/wp-content/uploads/2022/04/zinder.jpg
END:VEVENT
END:VCALENDAR