BEGIN:VCALENDAR
VERSION:2.0
PRODID:-//Octubre Centre de Cultura Contemporània - ECPv5.1.6//NONSGML v1.0//EN
CALSCALE:GREGORIAN
METHOD:PUBLISH
X-WR-CALNAME:Octubre Centre de Cultura Contemporània
X-ORIGINAL-URL:https://octubre.cat
X-WR-CALDESC:Events for Octubre Centre de Cultura Contemporània
BEGIN:VTIMEZONE
TZID:Europe/Andorra
BEGIN:DAYLIGHT
TZOFFSETFROM:+0100
TZOFFSETTO:+0200
TZNAME:CEST
DTSTART:20220327T010000
END:DAYLIGHT
BEGIN:STANDARD
TZOFFSETFROM:+0200
TZOFFSETTO:+0100
TZNAME:CET
DTSTART:20221030T010000
END:STANDARD
END:VTIMEZONE
BEGIN:VEVENT
DTSTART;TZID=Europe/Andorra:20220513T170000
DTEND;TZID=Europe/Andorra:20220513T170000
DTSTAMP:20260420T165938
CREATED:20220423T145723Z
LAST-MODIFIED:20250629T101013Z
UID:18176-1652461200-1652461200@octubre.cat
SUMMARY:DocsValència 2022: Posidònia\, d’Adán Aliaga
DESCRIPTION:Un cineasta roda un documental per descobrir els secrets de la posidònia\, l’ésser viu més longeu del planeta. Tots creuen que és una alga\, però és una planta i fa flors. La seua bella floració deuria ser el final de la pel·lícula. Però una pandèmia global farà un gir als esdeveniments. Tots els illencs han desaparegut… i les flors també. \nDirecció: Adán Aliaga\nProducció: Miguel Molina\nFotografia: Adán Aliaga\nEdició: Sergi Dies\, Miguel Garví\, Adán Aliaga\nDisseny sonor: Lucas Ariel Vallegos\nPaís: Espanya\nAny: 2021\nDuració: 93 min\nIdioma: valencià\, castellà\, alemany\, anglès \n  \n \n—\nLa sisena edició del Festival DocsValència / Espai de No Ficció se celebra a València del 6 al 14 de maig de 2022. Les sessions tenen lloc als Cines Lys\, el Col·legi Major Rector Peset\, La Filmoteca\, Sant Miquel dels Reis i l’Octubre CCC.
URL:https://octubre.cat/activitat/docsvalencia-2022-posidonia-dadan-aliaga/
LOCATION:Sala d’actes
CATEGORIES:DocsValència 2022
ATTACH;FMTTYPE=image/jpeg:https://octubre.cat/www/wp-content/uploads/2022/04/posidonia.jpg
END:VEVENT
END:VCALENDAR