BEGIN:VCALENDAR
VERSION:2.0
PRODID:-//Octubre Centre de Cultura Contemporània - ECPv5.1.6//NONSGML v1.0//EN
CALSCALE:GREGORIAN
METHOD:PUBLISH
X-WR-CALNAME:Octubre Centre de Cultura Contemporània
X-ORIGINAL-URL:https://octubre.cat
X-WR-CALDESC:Events for Octubre Centre de Cultura Contemporània
BEGIN:VTIMEZONE
TZID:Europe/Andorra
BEGIN:DAYLIGHT
TZOFFSETFROM:+0100
TZOFFSETTO:+0200
TZNAME:CEST
DTSTART:20220327T010000
END:DAYLIGHT
BEGIN:STANDARD
TZOFFSETFROM:+0200
TZOFFSETTO:+0100
TZNAME:CET
DTSTART:20221030T010000
END:STANDARD
END:VTIMEZONE
BEGIN:VEVENT
DTSTART;TZID=Europe/Andorra:20220513T190000
DTEND;TZID=Europe/Andorra:20220513T190000
DTSTAMP:20260420T160603
CREATED:20220423T144849Z
LAST-MODIFIED:20220423T144849Z
UID:18173-1652468400-1652468400@octubre.cat
SUMMARY:DocsValència 2022: Patti Smith. Electric Poet\, d’Anne Cutaïa i Sophie Peyrard
DESCRIPTION:Estiu de 1967. Als 20 anys\, Patricia Lee Smith deixa la seua Nova Jersey rural per anar a Manhattan. A la maleta porta Il·luminacions de Rimbaud i un quadern d’esbossos per a ella que somia convertir-se en artista. Anys després\, les cançons estableixen estils d’escriptura i cant radicalment nous. El rock’n’roll es transforma per sempre. \nDirecció: Anne Cutaïa\, Sophie Peyrard\nProducció: Virginia Subramaniyam\nEdició: Anne Cutaïa\nPaís: França\nAny: 2021\nDuració: 54 min\nIdioma: anglès \n  \n \n—\nLa sisena edició del Festival DocsValència / Espai de No Ficció se celebra a València del 6 al 14 de maig de 2022. Les sessions tenen lloc als Cines Lys\, el Col·legi Major Rector Peset\, La Filmoteca\, Sant Miquel dels Reis i l’Octubre CCC.
URL:https://octubre.cat/activitat/docsvalencia-2022-patti-smith-electric-poet-danne-cutaia-i-sophie-peyrard/
LOCATION:Sala d’actes
CATEGORIES:DocsValència 2022
ATTACH;FMTTYPE=image/jpeg:https://octubre.cat/www/wp-content/uploads/2022/04/Patti-Smith.jpg
END:VEVENT
END:VCALENDAR