BEGIN:VCALENDAR
VERSION:2.0
PRODID:-//Octubre Centre de Cultura Contemporània - ECPv5.1.6//NONSGML v1.0//EN
CALSCALE:GREGORIAN
METHOD:PUBLISH
X-WR-CALNAME:Octubre Centre de Cultura Contemporània
X-ORIGINAL-URL:https://octubre.cat
X-WR-CALDESC:Events for Octubre Centre de Cultura Contemporània
BEGIN:VTIMEZONE
TZID:Europe/Andorra
BEGIN:DAYLIGHT
TZOFFSETFROM:+0100
TZOFFSETTO:+0200
TZNAME:CEST
DTSTART:20220327T010000
END:DAYLIGHT
BEGIN:STANDARD
TZOFFSETFROM:+0200
TZOFFSETTO:+0100
TZNAME:CET
DTSTART:20221030T010000
END:STANDARD
END:VTIMEZONE
BEGIN:VEVENT
DTSTART;TZID=Europe/Andorra:20220509T203000
DTEND;TZID=Europe/Andorra:20220509T203000
DTSTAMP:20260420T180419
CREATED:20220423T142522Z
LAST-MODIFIED:20220423T142522Z
UID:18165-1652128200-1652128200@octubre.cat
SUMMARY:DocsValència 2022: Mundos invisibles\, d’Orlando Bosch
DESCRIPTION:Retrat de l’artista Marco Caparrós (Granada\, 1965) que ens presenta la seua evolució artística des dels inicis fins avui dia. Marco combina l’art amb la meditació per mitjà de la pintura\, la performance i altres disciplines. És un artista que busca l’essència de l’art a través de la meditació i l’espiritualitat. Després d’una visita a Mèxic\, la seua vida es va convertir en un viatge místic. \nEstrena mundial \nDirecció: Orlando Bosch\nProducció: Orlando Bosch\nFotografia: Orlando Bosch\nEdició: Orlando Bosch\nDisseny sonor: David Schafer\nPaís: Espanya\nAny: 2022\nDuració: 75 min\nIdioma: castellà \n  \n \n—\nLa sisena edició del Festival DocsValència / Espai de No Ficció se celebra a València del 6 al 14 de maig de 2022. Les sessions tenen lloc als Cines Lys\, el Col·legi Major Rector Peset\, La Filmoteca\, Sant Miquel dels Reis i l’Octubre CCC.
URL:https://octubre.cat/activitat/docsvalencia-2022-mundos-invisibles-dorlando-bosch/
LOCATION:Sala d’actes
CATEGORIES:DocsValència 2022
ATTACH;FMTTYPE=image/jpeg:https://octubre.cat/www/wp-content/uploads/2022/04/mundos-invisibles.jpg
END:VEVENT
END:VCALENDAR