BEGIN:VCALENDAR
VERSION:2.0
PRODID:-//Octubre Centre de Cultura Contemporània - ECPv5.1.6//NONSGML v1.0//EN
CALSCALE:GREGORIAN
METHOD:PUBLISH
X-WR-CALNAME:Octubre Centre de Cultura Contemporània
X-ORIGINAL-URL:https://octubre.cat
X-WR-CALDESC:Events for Octubre Centre de Cultura Contemporània
BEGIN:VTIMEZONE
TZID:Europe/Andorra
BEGIN:DAYLIGHT
TZOFFSETFROM:+0100
TZOFFSETTO:+0200
TZNAME:CEST
DTSTART:20220327T010000
END:DAYLIGHT
BEGIN:STANDARD
TZOFFSETFROM:+0200
TZOFFSETTO:+0100
TZNAME:CET
DTSTART:20221030T010000
END:STANDARD
END:VTIMEZONE
BEGIN:VEVENT
DTSTART;TZID=Europe/Andorra:20220512T190000
DTEND;TZID=Europe/Andorra:20220512T190000
DTSTAMP:20260420T143910
CREATED:20220422T193719Z
LAST-MODIFIED:20220422T193719Z
UID:18162-1652382000-1652382000@octubre.cat
SUMMARY:DocsValència 2022: La vida més llarga\, de David Valero
DESCRIPTION:Maria Moreno va fer 94 anys envoltada de familiars i amics. Viu en un barri humil de de Sant Vicent del Raspeig (l’Alacantí). Fa uns dies\, el seu veí i consogre va morir amb la mateixa edat. Sap que la mort és a prop i que algun dia vindrà a buscar-la. Però Maria vol viure. Viure fins als 100 anys. \nEstrena mundial \nDirecció: David Valero\nProducció: Jaibo Films\nFotografia: David Valero\nEdició: Aurora Sulli\nDisseny sonor: La Bocina\nPaís: Espanya\nAny: 2021\nDuració: 78 min \n  \n \n—\nLa sisena edició del Festival DocsValència / Espai de No Ficció se celebra a València del 6 al 14 de maig de 2022. Les sessions tenen lloc als Cines Lys\, el Col·legi Major Rector Peset\, La Filmoteca\, Sant Miquel dels Reis i l’Octubre CCC.
URL:https://octubre.cat/activitat/docsvalencia-2022-la-vida-mes-llarga-de-david-valero/
LOCATION:Sala d’actes
CATEGORIES:DocsValència 2022
ATTACH;FMTTYPE=image/jpeg:https://octubre.cat/www/wp-content/uploads/2022/04/la-vida-mes-llarga.jpg
END:VEVENT
END:VCALENDAR