BEGIN:VCALENDAR
VERSION:2.0
PRODID:-//Octubre Centre de Cultura Contemporània - ECPv5.1.6//NONSGML v1.0//EN
CALSCALE:GREGORIAN
METHOD:PUBLISH
X-WR-CALNAME:Octubre Centre de Cultura Contemporània
X-ORIGINAL-URL:https://octubre.cat
X-WR-CALDESC:Events for Octubre Centre de Cultura Contemporània
BEGIN:VTIMEZONE
TZID:Europe/Andorra
BEGIN:DAYLIGHT
TZOFFSETFROM:+0100
TZOFFSETTO:+0200
TZNAME:CEST
DTSTART:20220327T010000
END:DAYLIGHT
BEGIN:STANDARD
TZOFFSETFROM:+0200
TZOFFSETTO:+0100
TZNAME:CET
DTSTART:20221030T010000
END:STANDARD
END:VTIMEZONE
BEGIN:VEVENT
DTSTART;TZID=Europe/Andorra:20220507T183000
DTEND;TZID=Europe/Andorra:20220507T183000
DTSTAMP:20260420T192320
CREATED:20220422T185532Z
LAST-MODIFIED:20250629T100845Z
UID:18154-1651948200-1651948200@octubre.cat
SUMMARY:DocsValència 2022: Intramur. El procés de creació de «La mort i la donzella»\, de Pepe Andreu i Rafa Molés
DESCRIPTION:Intramur mostra el procés de creació de l’espectacle de dansa La mort i la donzella de la coreògrafa Asun Noales\, que va acabar triomfant als Premis Max. Però també explica una història que va passar molt abans\, quan una mort prematura ens enfronta a mirar a l’interior d’aquell mur que ningú no vol creuar. \nEstrena mundial \nDirecció: Pepe Andreu\, Rafa Molés\nProducció: Natalia Maestro\nFotografia: José Luis González\nEdició: Pepe Andreu\nDisseny sonor: Emilio J. Aliena\nPaís: Espanya\nAny: 2022\nDuració: 36 min \n  \n \n—\nLa sisena edició del Festival DocsValència / Espai de No Ficció se celebra a València del 6 al 14 de maig de 2022. Les sessions tenen lloc als Cines Lys\, el Col·legi Major Rector Peset\, La Filmoteca\, Sant Miquel dels Reis i l’Octubre CCC.
URL:https://octubre.cat/activitat/docsvalencia-2022-intramur-el-proces-de-creacio-de-la-mort-i-la-donzella-de-pepe-andreu-i-rafa-moles/
LOCATION:Sala d’actes
CATEGORIES:DocsValència 2022
ATTACH;FMTTYPE=image/jpeg:https://octubre.cat/www/wp-content/uploads/2022/04/mort-donzella.jpg
END:VEVENT
END:VCALENDAR