BEGIN:VCALENDAR
VERSION:2.0
PRODID:-//Octubre Centre de Cultura Contemporània - ECPv5.1.6//NONSGML v1.0//EN
CALSCALE:GREGORIAN
METHOD:PUBLISH
X-WR-CALNAME:Octubre Centre de Cultura Contemporània
X-ORIGINAL-URL:https://octubre.cat
X-WR-CALDESC:Events for Octubre Centre de Cultura Contemporània
BEGIN:VTIMEZONE
TZID:Europe/Andorra
BEGIN:DAYLIGHT
TZOFFSETFROM:+0100
TZOFFSETTO:+0200
TZNAME:CEST
DTSTART:20190331T010000
END:DAYLIGHT
BEGIN:STANDARD
TZOFFSETFROM:+0200
TZOFFSETTO:+0100
TZNAME:CET
DTSTART:20191027T010000
END:STANDARD
END:VTIMEZONE
BEGIN:VEVENT
DTSTART;TZID=Europe/Andorra:20191107T000000
DTEND;TZID=Europe/Andorra:20191116T000000
DTSTAMP:20260421T163407
CREATED:20200729T173557Z
LAST-MODIFIED:20200729T191248Z
UID:11564-1573084800-1573862400@octubre.cat
SUMMARY:DocsValència 2019
DESCRIPTION:Del 7 al 16 de novembre. Festival Internacional de Cinema Documental. Tercera edició. Entrada lliure fins completar l’aforament.	 \n  \n  \n\n 	 Espai de No Ficció Festival Internacional de Cinema Documental Tercera edició  DocsValència 2019 se celebra al Col·legi Major Rector Peset\, La Filmoteca\, La Mutant\, Nolich i l’Octubre CCC.  PROGRAMACIÓ A L’OCTUBRE CCC:  Divendres 8 18:00h. El proxeneta. Paso corto\, mala leche. Mabel Lozano | 2018 | 79’ | HD | castellà 20:00h. Fragments (programa 1)  Dissabte 9 12:00h. DocsFòrum: “Benvinguts al cinema hipermodern”. Conversa amb Gilles Lipovetsky 16:00h. El proxeneta. Paso corto\, mala leche. Mabel Lozano | 2018 | 79’ | HD | castellà 18:00h. Fragments (programa 1) 20:00h. Disparos. Rodrigo Hernández\, Elpida Nikou | 2018 | 70’ | HD | castellà  Diumenge 10 16:00h. Disparos. Rodrigo Hernández\, Elpida Nikou | 2018 | 70’ | HD | castellà 18:00h. Petitet. Carles Bosch | 2018 | 103’ | HD | català 20:00h. Fragments (programa 2)  Dilluns 11 18:00h. Fragments (programa 2) 20:00h. Petitet. Carles Bosch | 2018 | 103’ | HD | català  Dimarts 12 18:00h. Ainhoa. Yo no soy esa. Carolina Astudillo Muñoz | 2018 | 98’ | HD | castellà 20:00h. En la bretxa. Claudia Reig | 2018 | HD | 55’ | català  Dimecres 13 18:00h. El cuarto reino. Adán Aliaga\, Álex Lora | 2019 | 2K | 82’| castellà\, anglés\, xinés 20:00h. Ainhoa. Yo no soy esa. Carolina Astudillo Muñoz | 2018 | 98’ | HD | castellà  Divendres 15 16:00h. Usar\, tirar\, atascar. Manuel Rossell | 2019 | 50’ | HD | castellà 18:00h. Ara Malikian. Una vida entre las cuerdas. Nata Moreno | 2019 | 88’ | 2K\, full HD | castellà\, anglés 20:00h. La otra educación. Carmen Pellicer\, Joecar Hanna Zhang | 2018 | HD | 77’ | castellà  Dissabte 16 18:00h. Ahir/demà. Raúl Riebenbauer | 2018 | HD | 46’ | castellà\, català\, àrab 20:00h. Contra el NO-DO. Llorenç Soler o la pulsió per l’honestedat. Albert Montón | 2018 | HD | 90’ | català  — Organitzat per DocsValència amb la col·laboració de l’Octubre CCC. Entrada lliure fins completar l’aforament Descarrega’t el pdf amb tot el programa en aquest enllaç
URL:https://octubre.cat/activitat/docsvalencia-2019/
LOCATION:Sala d’actes
CATEGORIES:Cinema
ATTACH;FMTTYPE=image/jpeg:https://octubre.cat/www/wp-content/uploads/2020/07/activitat3368.jpg
END:VEVENT
END:VCALENDAR