BEGIN:VCALENDAR
VERSION:2.0
PRODID:-//Octubre Centre de Cultura Contemporània - ECPv5.1.6//NONSGML v1.0//EN
CALSCALE:GREGORIAN
METHOD:PUBLISH
X-WR-CALNAME:Octubre Centre de Cultura Contemporània
X-ORIGINAL-URL:https://octubre.cat
X-WR-CALDESC:Events for Octubre Centre de Cultura Contemporània
BEGIN:VTIMEZONE
TZID:Europe/Andorra
BEGIN:DAYLIGHT
TZOFFSETFROM:+0100
TZOFFSETTO:+0200
TZNAME:CEST
DTSTART:20180325T010000
END:DAYLIGHT
BEGIN:STANDARD
TZOFFSETFROM:+0200
TZOFFSETTO:+0100
TZNAME:CET
DTSTART:20181028T010000
END:STANDARD
END:VTIMEZONE
BEGIN:VEVENT
DTSTART;TZID=Europe/Andorra:20180426T000000
DTEND;TZID=Europe/Andorra:20180505T000000
DTSTAMP:20260421T100810
CREATED:20200729T190345Z
LAST-MODIFIED:20200729T190345Z
UID:13374-1524700800-1525478400@octubre.cat
SUMMARY:DocsValència 2018
DESCRIPTION:DocsValència Espai de No Ficció. Festival Internacional de Cinema Documental. Del 26 d’abril al 5 de maig. Entrada lliure fins a completar aforament.  \n  \n  \n\n DocsValència Espai de No Ficció Festival Internacional de Cinema Documental  Del 26 d’abril al 5 de maig les pantalles valencianes tornen a il·luminar-se amb històries fascinants\, amb personatges extraordinaris. Més de 350 documentals inscrits\, 41 treballs seleccionats\, el DocsLab\, el DocsFòrum\, EducaDocs\, experts nacionals i internacionals\, tallers\, taules rodones\, conferències magistrals i el nostre convidat d’honor\, el realitzador britànic Julien Temple. Tot això i molt més és DocsValència Espai de no Ficció.  Les activitats tenen lloc a diversos espais de la ciutat de València\, incloent-hi l’Octubre CCC.  Divendres 27 d’abril –17:00 Fragments (programa 1) Coets. El so de la llibertat | Javier Álvarez Solís | Espanya Rutina | David García Ferreiro | Espanya  Savis de l’horta | David Segarra Espanya  The Mauritania Railway. Backbone of the Sahara | Macgregor | Espanya\, Estats Units –19:00 Donkeyote | Chico Pereira | Alemanya\, Regne Unit\, Espanya  Dissabte 28 d’abril –17:00 El meu bosc secret | Niina Brandt | Finlàndia  –19:00 Joe Strummer. El futur no està escrit | Julien Temple | Irlanda\, Regne Unit  Diumenge 29 d’abril –17:00 Owino | Javier Marín\, Yusuf Razzaque | Espanya  –19:00 Donkeyote | Chico Pereira | Alemanya\, Regne Unit\, Espanya  Dilluns 30 d’abril –17:00 Els subversius | Miles Roston | Espanya\, Països Baixos –19:00 Pani. Dones\, drogues i Katmandú | Raúl Gallego Abellán | Tailàndia\, Espanya  Dimarts 1 de maig –17:00 Entre els homes de bé / Caio Cavechini\, Carlos Juliano / Brasil\, Estats Units –19:00 Oil City Confidential / Julien Temple / Regne Unit  Dimecres 2 de maig –17:00 Judas / Raúl Capdevila\, J.C. Carrano\, Raúl Egües\, Alejandra Vera / Espanya –19:00 Indestructible. L’ànima de la salsa / David Pareja / Espanya  Dijous 3 de maig –17:00 The Cut / Ernest José Sorrentino\, María Andrés Pérez / Espanya –19:00 Verabredung / Maider Oleaga / Espanya  Divendres 4 de maig –17:00 Fragments (programa 3) –19:00 Experiment Stuka / Pepe Andreu\, Rafa Molés / Espanya  Dissabte 5 de maig –17:00 Fragments (programa 3) –19:00 Crossroads. Paco Roca i Seguridad Social a La Encrucijada / Miguel Perelló / Espanya\, Països Baixos  — Organitza: DocsValència Espai de no Ficció. Col·laboren: Conselleria d’Educació\, Investigació\, Cultura i Esport de la Generalitat Valenciana\, Institut Valencià de Cultura\, Centre del Carme\, Ajuntament de València\, Acció Cultural del País Valencià.
URL:https://octubre.cat/activitat/docsvalencia-2018/
LOCATION:Sala d’actes
CATEGORIES:Cinema
ATTACH;FMTTYPE=image/jpeg:https://octubre.cat/www/wp-content/uploads/2020/07/activitat3017.jpg
END:VEVENT
END:VCALENDAR