BEGIN:VCALENDAR
VERSION:2.0
PRODID:-//Octubre Centre de Cultura Contemporània - ECPv5.1.6//NONSGML v1.0//EN
CALSCALE:GREGORIAN
METHOD:PUBLISH
X-WR-CALNAME:Octubre Centre de Cultura Contemporània
X-ORIGINAL-URL:https://octubre.cat
X-WR-CALDESC:Events for Octubre Centre de Cultura Contemporània
BEGIN:VTIMEZONE
TZID:Europe/Andorra
BEGIN:DAYLIGHT
TZOFFSETFROM:+0100
TZOFFSETTO:+0200
TZNAME:CEST
DTSTART:20190331T010000
END:DAYLIGHT
BEGIN:STANDARD
TZOFFSETFROM:+0200
TZOFFSETTO:+0100
TZNAME:CET
DTSTART:20191027T010000
END:STANDARD
END:VTIMEZONE
BEGIN:VEVENT
DTSTART;TZID=Europe/Andorra:20190705T190000
DTEND;TZID=Europe/Andorra:20190705T190000
DTSTAMP:20260421T212458
CREATED:20200729T173433Z
LAST-MODIFIED:20200729T191202Z
UID:11465-1562353200-1562353200@octubre.cat
SUMMARY:Doble presentació poètica
DESCRIPTION:Divendres 5 de juliol a les 19.00h a la llibreria Fan Set. Amb Núria Busquet Molist i Núria Armengol.	 \n  \n  \n\n 	 Doble presentació de traduccions poètiques: Corb (Lleonard Muntaner)\, de Ted Hughes\, i Nit fidel i virtuosa (Edicions del Buc)\, de Louise Glück\, traduïts per Núria Busquet Molist.  Amb la traductora\, i amb la poeta Núria Armengol.
URL:https://octubre.cat/activitat/doble-presentacio-poetica/
LOCATION:Llibreria Fan Set
CATEGORIES:Literatura
ATTACH;FMTTYPE=image/jpeg:https://octubre.cat/www/wp-content/uploads/2020/07/activitat3310.jpg
END:VEVENT
END:VCALENDAR